BEGIN:VCALENDAR
VERSION:2.0
PRODID:-// - ECPv6.15.18//NONSGML v1.0//EN
CALSCALE:GREGORIAN
METHOD:PUBLISH
X-ORIGINAL-URL:https://careteamplus.org
X-WR-CALDESC:Events for 
REFRESH-INTERVAL;VALUE=DURATION:PT1H
X-Robots-Tag:noindex
X-PUBLISHED-TTL:PT1H
BEGIN:VTIMEZONE
TZID:America/New_York
BEGIN:DAYLIGHT
TZOFFSETFROM:-0500
TZOFFSETTO:-0400
TZNAME:EDT
DTSTART:20250309T070000
END:DAYLIGHT
BEGIN:STANDARD
TZOFFSETFROM:-0400
TZOFFSETTO:-0500
TZNAME:EST
DTSTART:20251102T060000
END:STANDARD
BEGIN:DAYLIGHT
TZOFFSETFROM:-0500
TZOFFSETTO:-0400
TZNAME:EDT
DTSTART:20260308T070000
END:DAYLIGHT
BEGIN:STANDARD
TZOFFSETFROM:-0400
TZOFFSETTO:-0500
TZNAME:EST
DTSTART:20261101T060000
END:STANDARD
BEGIN:DAYLIGHT
TZOFFSETFROM:-0500
TZOFFSETTO:-0400
TZNAME:EDT
DTSTART:20270314T070000
END:DAYLIGHT
BEGIN:STANDARD
TZOFFSETFROM:-0400
TZOFFSETTO:-0500
TZNAME:EST
DTSTART:20271107T060000
END:STANDARD
END:VTIMEZONE
BEGIN:VEVENT
DTSTART;TZID=America/New_York:20260324T110000
DTEND;TZID=America/New_York:20260324T133000
DTSTAMP:20260420T172416
CREATED:20260129T144219Z
LAST-MODIFIED:20260130T011459Z
UID:10001344-1774350000-1774359000@careteamplus.org
SUMMARY:Low Country Urgent Care
DESCRIPTION:EVENT NAME:  Low Country Urgent Care \nEVENT DATE:  3/24/2026 \nEVENT TIME:  11-1:30pm \nEVENT ADDRESS: 4520 Broad Street Loris \nDESCRIPTION OF THE EVENT: Mobile Testing
URL:https://careteamplus.org/event/low-country-urgent-care/
LOCATION:Low Country Urgent Care\, 4520 Broad Street\, Loris\, SC\, 29569\, United States
END:VEVENT
BEGIN:VEVENT
DTSTART;TZID=America/New_York:20260323T080000
DTEND;TZID=America/New_York:20260323T130000
DTSTAMP:20260420T172416
CREATED:20260126T203910Z
LAST-MODIFIED:20260126T210038Z
UID:10001089-1774252800-1774270800@careteamplus.org
SUMMARY:FREE Walk-In STI Bundles
DESCRIPTION:FREE WALK-IN STI BUNDLES \nOur Pawleys Island location is offering this FREE service every Monday from 8am-1pm! \n  \n 
URL:https://careteamplus.org/event/free-walk-in-sti-bundles-2/2026-03-23/
LOCATION:239 Business Center Drive Pawleys Island SC 29585\, 239 Business Center Drive\, Pawleys Island\, SC\, 29585\, United States
END:VEVENT
BEGIN:VEVENT
DTSTART;TZID=America/New_York:20260318T180000
DTEND;TZID=America/New_York:20260318T190000
DTSTAMP:20260420T172416
CREATED:20260113T191411Z
LAST-MODIFIED:20260324T171432Z
UID:10000924-1773856800-1773860400@careteamplus.org
SUMMARY:Life Balance 360 Class
DESCRIPTION:Life Balance 360 Hosted by Shawn Garrett\, CCHW\,III\nYour health. Your journey. Whether you are pre-diabetic\, diabetic\, or just embracing a healthier lifestyle\, Life Balance 360 is for you! Our nutrition services are open to everyone\, or ANYONE looking to learn healthier lifestyle habits.\n\nLife Balance 360 is offered through Careteam Plus Pre-Diabetes Program. The class is on every other Wednesday starting February 4th. You can choose between the 12p-1p class or the 6p-7p class.\nLife Balance 360 is completely FREE and designed to be engaging and supportive. You’re encouraged to bring a friend or family member and learn together. \nTo join the class TODAY\, please click on the link below from your computer\, tablet or smartphone. https://meet.goto.com/145774797 \nYou can also dial in using your phone. Access Code: 145-774-797 United States: +1 (872) 240-3212 \nGet the app now and be ready when your first meeting starts: https://meet.goto.com/install \nFor class topics\, description\, and class materials; visit our Life Balance 360 page on our website and you can download the class materials from there: https://careteamplus.org/diabetes-prevention-program/ or scan the QR Code in the picture attached.
URL:https://careteamplus.org/event/life-balance-360-class-2/2026-03-18/
LOCATION:100 Professional Park Dr. Conway\, SC 29526\, 100 Professional Park Dr.\, Conway\, SC\, 29526\, United States
END:VEVENT
BEGIN:VEVENT
DTSTART;TZID=America/New_York:20260318T120000
DTEND;TZID=America/New_York:20260318T130000
DTSTAMP:20260420T172416
CREATED:20260113T191253Z
LAST-MODIFIED:20260324T171248Z
UID:10000666-1773835200-1773838800@careteamplus.org
SUMMARY:Life Balance 360 Class
DESCRIPTION:Life Balance 360 Hosted by Shawn Garrett\, CCHW\,III\nYour health. Your journey. Whether you are pre-diabetic\, diabetic\, or just embracing a healthier lifestyle\, Life Balance 360 is for you! Our nutrition services are open to everyone\, or ANYONE looking to learn healthier lifestyle habits.\n\nLife Balance 360 is offered through Careteam Plus Pre-Diabetes Program. The class is on every other Wednesday starting February 4th. You can choose between the 12p-1p class or the 6p-7p class.\nLife Balance 360 is completely FREE and designed to be engaging and supportive. You’re encouraged to bring a friend or family member and learn together. \nTo join the class TODAY\, please click on the link below from your computer\, tablet or smartphone. https://meet.goto.com/145774797 \nYou can also dial in using your phone. Access Code: 145-774-797 United States: +1 (872) 240-3212 \nGet the app now and be ready when your first meeting starts: https://meet.goto.com/install \nFor class topics\, description\, and class materials; visit our Life Balance 360 page on our website and you can download the class materials from there: https://careteamplus.org/diabetes-prevention-program/ or scan the QR Code in the picture attached.
URL:https://careteamplus.org/event/life-balance-360-class/2026-03-18/
LOCATION:100 Professional Park Dr. Conway\, SC 29526\, 100 Professional Park Dr.\, Conway\, SC\, 29526\, United States
END:VEVENT
BEGIN:VEVENT
DTSTART;TZID=America/New_York:20260316T080000
DTEND;TZID=America/New_York:20260316T130000
DTSTAMP:20260420T172416
CREATED:20260126T203910Z
LAST-MODIFIED:20260126T210038Z
UID:10001088-1773648000-1773666000@careteamplus.org
SUMMARY:FREE Walk-In STI Bundles
DESCRIPTION:FREE WALK-IN STI BUNDLES \nOur Pawleys Island location is offering this FREE service every Monday from 8am-1pm! \n  \n 
URL:https://careteamplus.org/event/free-walk-in-sti-bundles-2/2026-03-16/
LOCATION:239 Business Center Drive Pawleys Island SC 29585\, 239 Business Center Drive\, Pawleys Island\, SC\, 29585\, United States
END:VEVENT
BEGIN:VEVENT
DTSTART;TZID=America/New_York:20260314T190000
DTEND;TZID=America/New_York:20260314T220000
DTSTAMP:20260420T172416
CREATED:20260226T204122Z
LAST-MODIFIED:20260227T004829Z
UID:10001356-1773514800-1773525600@careteamplus.org
SUMMARY:PULSE\, CLAWS\, AND PFLAG
DESCRIPTION:Our Careteam Plus staff will be at this event. Come say hello and learn about Careteam Plus services! \nEVENT NAME:  PULSE\, CLAWS and PFLAG \nEVENT DATE:  March 14\, 2026 \nEVENT TIME: 7-10pm \nEVENT ADDRESS:  2701 S Kings Hwy Myrtle Beach \nDESCRIPTION OF EVENT:  Mobile Unit testing and Education Materials
URL:https://careteamplus.org/event/pulse-claws-and-pflag/
LOCATION:Pulse Ultra Club\, 2701 South Kings Highway\, Myrtle Beach\, SC\, 29577\, United States
END:VEVENT
BEGIN:VEVENT
DTSTART;TZID=America/New_York:20260313T090000
DTEND;TZID=America/New_York:20260313T110000
DTSTAMP:20260420T172416
CREATED:20260107T142815Z
LAST-MODIFIED:20260107T142911Z
UID:10000604-1773392400-1773399600@careteamplus.org
SUMMARY:Learn about PrEP!
DESCRIPTION:Is PrEP right for you? Learn more every 2nd Friday of each month starting tomorrow! Our Careteam Plus team will be at Shoreline Behavioral Services so come say hello! 😊
URL:https://careteamplus.org/event/learn-about-prep/2026-03-13/
LOCATION:Shoreline Behavioral Health\, 2404 Wise Road\, Conway\, SC\, 29526\, United States
END:VEVENT
BEGIN:VEVENT
DTSTART;TZID=America/New_York:20260309T080000
DTEND;TZID=America/New_York:20260309T130000
DTSTAMP:20260420T172416
CREATED:20260126T203910Z
LAST-MODIFIED:20260126T210038Z
UID:10001087-1773043200-1773061200@careteamplus.org
SUMMARY:FREE Walk-In STI Bundles
DESCRIPTION:FREE WALK-IN STI BUNDLES \nOur Pawleys Island location is offering this FREE service every Monday from 8am-1pm! \n  \n 
URL:https://careteamplus.org/event/free-walk-in-sti-bundles-2/2026-03-09/
LOCATION:239 Business Center Drive Pawleys Island SC 29585\, 239 Business Center Drive\, Pawleys Island\, SC\, 29585\, United States
END:VEVENT
BEGIN:VEVENT
DTSTART;TZID=America/New_York:20260307T090000
DTEND;TZID=America/New_York:20260307T120000
DTSTAMP:20260420T172416
CREATED:20260122T211152Z
LAST-MODIFIED:20260217T221837Z
UID:10001050-1772874000-1772884800@careteamplus.org
SUMMARY:Community Care Day
DESCRIPTION:Join the Careteam Plus staff at the Community Care Day! Come say hello and learn about Careteam Plus! \nEVENT NAME:  Community Care Day \nEVENT DATE:  March 7th\, 2026 \nEVENT TIME: 9a-12pm \nEVENT ADDRESS:  Beck Recreation Center – 2030 West Church Street Georgetown SC \nDESCRIPTION OF EVENT: Mobile Testing and Diabetes Education
URL:https://careteamplus.org/event/community-care-day/
LOCATION:Beck Recreation Center\, 2030 Church Street\, Georgetown\, SC\, 29440\, United States
END:VEVENT
BEGIN:VEVENT
DTSTART;TZID=America/New_York:20260304T180000
DTEND;TZID=America/New_York:20260304T190000
DTSTAMP:20260420T172416
CREATED:20260113T191411Z
LAST-MODIFIED:20260324T171432Z
UID:10000923-1772647200-1772650800@careteamplus.org
SUMMARY:Life Balance 360 Class
DESCRIPTION:Life Balance 360 Hosted by Shawn Garrett\, CCHW\,III\nYour health. Your journey. Whether you are pre-diabetic\, diabetic\, or just embracing a healthier lifestyle\, Life Balance 360 is for you! Our nutrition services are open to everyone\, or ANYONE looking to learn healthier lifestyle habits.\n\nLife Balance 360 is offered through Careteam Plus Pre-Diabetes Program. The class is on every other Wednesday starting February 4th. You can choose between the 12p-1p class or the 6p-7p class.\nLife Balance 360 is completely FREE and designed to be engaging and supportive. You’re encouraged to bring a friend or family member and learn together. \nTo join the class TODAY\, please click on the link below from your computer\, tablet or smartphone. https://meet.goto.com/145774797 \nYou can also dial in using your phone. Access Code: 145-774-797 United States: +1 (872) 240-3212 \nGet the app now and be ready when your first meeting starts: https://meet.goto.com/install \nFor class topics\, description\, and class materials; visit our Life Balance 360 page on our website and you can download the class materials from there: https://careteamplus.org/diabetes-prevention-program/ or scan the QR Code in the picture attached.
URL:https://careteamplus.org/event/life-balance-360-class-2/2026-03-04/
LOCATION:100 Professional Park Dr. Conway\, SC 29526\, 100 Professional Park Dr.\, Conway\, SC\, 29526\, United States
END:VEVENT
BEGIN:VEVENT
DTSTART;TZID=America/New_York:20260304T120000
DTEND;TZID=America/New_York:20260304T130000
DTSTAMP:20260420T172416
CREATED:20260113T191253Z
LAST-MODIFIED:20260324T171248Z
UID:10000665-1772625600-1772629200@careteamplus.org
SUMMARY:Life Balance 360 Class
DESCRIPTION:Life Balance 360 Hosted by Shawn Garrett\, CCHW\,III\nYour health. Your journey. Whether you are pre-diabetic\, diabetic\, or just embracing a healthier lifestyle\, Life Balance 360 is for you! Our nutrition services are open to everyone\, or ANYONE looking to learn healthier lifestyle habits.\n\nLife Balance 360 is offered through Careteam Plus Pre-Diabetes Program. The class is on every other Wednesday starting February 4th. You can choose between the 12p-1p class or the 6p-7p class.\nLife Balance 360 is completely FREE and designed to be engaging and supportive. You’re encouraged to bring a friend or family member and learn together. \nTo join the class TODAY\, please click on the link below from your computer\, tablet or smartphone. https://meet.goto.com/145774797 \nYou can also dial in using your phone. Access Code: 145-774-797 United States: +1 (872) 240-3212 \nGet the app now and be ready when your first meeting starts: https://meet.goto.com/install \nFor class topics\, description\, and class materials; visit our Life Balance 360 page on our website and you can download the class materials from there: https://careteamplus.org/diabetes-prevention-program/ or scan the QR Code in the picture attached.
URL:https://careteamplus.org/event/life-balance-360-class/2026-03-04/
LOCATION:100 Professional Park Dr. Conway\, SC 29526\, 100 Professional Park Dr.\, Conway\, SC\, 29526\, United States
END:VEVENT
BEGIN:VEVENT
DTSTART;TZID=America/New_York:20260302T080000
DTEND;TZID=America/New_York:20260302T130000
DTSTAMP:20260420T172416
CREATED:20260126T203910Z
LAST-MODIFIED:20260126T210038Z
UID:10001086-1772438400-1772456400@careteamplus.org
SUMMARY:FREE Walk-In STI Bundles
DESCRIPTION:FREE WALK-IN STI BUNDLES \nOur Pawleys Island location is offering this FREE service every Monday from 8am-1pm! \n  \n 
URL:https://careteamplus.org/event/free-walk-in-sti-bundles-2/2026-03-02/
LOCATION:239 Business Center Drive Pawleys Island SC 29585\, 239 Business Center Drive\, Pawleys Island\, SC\, 29585\, United States
END:VEVENT
BEGIN:VEVENT
DTSTART;TZID=America/New_York:20260224T100000
DTEND;TZID=America/New_York:20260224T150000
DTSTAMP:20260420T172416
CREATED:20260217T222235Z
LAST-MODIFIED:20260217T222324Z
UID:10001347-1771927200-1771945200@careteamplus.org
SUMMARY:Black History Month Prevention Event
DESCRIPTION:Please join the Careteam Plus Prevention team in the Lobby at 100 Professional Park Drive in Conway on Tuesday\, February 24th\, from 10am-3pm. There will be Free HIV\, STI Testing\, and PrEP services as we celebrate National Black HIV/AIDS Awareness. The fraternity\, Phi Beta Sigma\, will be in attendance. \n 
URL:https://careteamplus.org/event/black-history-month-prevention-event/
LOCATION:100 Professional Park Dr. Conway\, SC 29526\, 100 Professional Park Dr.\, Conway\, SC\, 29526\, United States
END:VEVENT
BEGIN:VEVENT
DTSTART;TZID=America/New_York:20260223T080000
DTEND;TZID=America/New_York:20260223T130000
DTSTAMP:20260420T172416
CREATED:20260126T203910Z
LAST-MODIFIED:20260126T210038Z
UID:10001085-1771833600-1771851600@careteamplus.org
SUMMARY:FREE Walk-In STI Bundles
DESCRIPTION:FREE WALK-IN STI BUNDLES \nOur Pawleys Island location is offering this FREE service every Monday from 8am-1pm! \n  \n 
URL:https://careteamplus.org/event/free-walk-in-sti-bundles-2/2026-02-23/
LOCATION:239 Business Center Drive Pawleys Island SC 29585\, 239 Business Center Drive\, Pawleys Island\, SC\, 29585\, United States
END:VEVENT
BEGIN:VEVENT
DTSTART;TZID=America/New_York:20260218T180000
DTEND;TZID=America/New_York:20260218T190000
DTSTAMP:20260420T172416
CREATED:20260113T191411Z
LAST-MODIFIED:20260324T171432Z
UID:10000922-1771437600-1771441200@careteamplus.org
SUMMARY:Life Balance 360 Class
DESCRIPTION:Life Balance 360 Hosted by Shawn Garrett\, CCHW\,III\nYour health. Your journey. Whether you are pre-diabetic\, diabetic\, or just embracing a healthier lifestyle\, Life Balance 360 is for you! Our nutrition services are open to everyone\, or ANYONE looking to learn healthier lifestyle habits.\n\nLife Balance 360 is offered through Careteam Plus Pre-Diabetes Program. The class is on every other Wednesday starting February 4th. You can choose between the 12p-1p class or the 6p-7p class.\nLife Balance 360 is completely FREE and designed to be engaging and supportive. You’re encouraged to bring a friend or family member and learn together. \nTo join the class TODAY\, please click on the link below from your computer\, tablet or smartphone. https://meet.goto.com/145774797 \nYou can also dial in using your phone. Access Code: 145-774-797 United States: +1 (872) 240-3212 \nGet the app now and be ready when your first meeting starts: https://meet.goto.com/install \nFor class topics\, description\, and class materials; visit our Life Balance 360 page on our website and you can download the class materials from there: https://careteamplus.org/diabetes-prevention-program/ or scan the QR Code in the picture attached.
URL:https://careteamplus.org/event/life-balance-360-class-2/2026-02-18/
LOCATION:100 Professional Park Dr. Conway\, SC 29526\, 100 Professional Park Dr.\, Conway\, SC\, 29526\, United States
END:VEVENT
BEGIN:VEVENT
DTSTART;TZID=America/New_York:20260218T120000
DTEND;TZID=America/New_York:20260218T130000
DTSTAMP:20260420T172416
CREATED:20260113T191253Z
LAST-MODIFIED:20260324T171248Z
UID:10000664-1771416000-1771419600@careteamplus.org
SUMMARY:Life Balance 360 Class
DESCRIPTION:Life Balance 360 Hosted by Shawn Garrett\, CCHW\,III\nYour health. Your journey. Whether you are pre-diabetic\, diabetic\, or just embracing a healthier lifestyle\, Life Balance 360 is for you! Our nutrition services are open to everyone\, or ANYONE looking to learn healthier lifestyle habits.\n\nLife Balance 360 is offered through Careteam Plus Pre-Diabetes Program. The class is on every other Wednesday starting February 4th. You can choose between the 12p-1p class or the 6p-7p class.\nLife Balance 360 is completely FREE and designed to be engaging and supportive. You’re encouraged to bring a friend or family member and learn together. \nTo join the class TODAY\, please click on the link below from your computer\, tablet or smartphone. https://meet.goto.com/145774797 \nYou can also dial in using your phone. Access Code: 145-774-797 United States: +1 (872) 240-3212 \nGet the app now and be ready when your first meeting starts: https://meet.goto.com/install \nFor class topics\, description\, and class materials; visit our Life Balance 360 page on our website and you can download the class materials from there: https://careteamplus.org/diabetes-prevention-program/ or scan the QR Code in the picture attached.
URL:https://careteamplus.org/event/life-balance-360-class/2026-02-18/
LOCATION:100 Professional Park Dr. Conway\, SC 29526\, 100 Professional Park Dr.\, Conway\, SC\, 29526\, United States
END:VEVENT
BEGIN:VEVENT
DTSTART;TZID=America/New_York:20260216T080000
DTEND;TZID=America/New_York:20260216T130000
DTSTAMP:20260420T172416
CREATED:20260126T203910Z
LAST-MODIFIED:20260126T210038Z
UID:10001084-1771228800-1771246800@careteamplus.org
SUMMARY:FREE Walk-In STI Bundles
DESCRIPTION:FREE WALK-IN STI BUNDLES \nOur Pawleys Island location is offering this FREE service every Monday from 8am-1pm! \n  \n 
URL:https://careteamplus.org/event/free-walk-in-sti-bundles-2/2026-02-16/
LOCATION:239 Business Center Drive Pawleys Island SC 29585\, 239 Business Center Drive\, Pawleys Island\, SC\, 29585\, United States
END:VEVENT
BEGIN:VEVENT
DTSTART;TZID=America/New_York:20260214T190000
DTEND;TZID=America/New_York:20260214T220000
DTSTAMP:20260420T172416
CREATED:20260113T172822Z
LAST-MODIFIED:20260123T160445Z
UID:10000662-1771095600-1771106400@careteamplus.org
SUMMARY:Pulse with CLAWS
DESCRIPTION:EVENT NAME:  Pulse With CLAWS \nEVENT DATE:  February 14th  2026 (NATIONAL CONDOM DAY) \nEVENT TIME: 7 pm \nEVENT ADDRESS:  2701 S Kings HWY \nDESCRIPTION OF THE EVENT::  Testing and Information
URL:https://careteamplus.org/event/pulse-with-claws/
LOCATION:2701 S. Kings Hwy Myrtle Beach SC 29577\, 2701 S. Kings Hwy\, Myrtle Beach\, SC\, 29577\, United States
END:VEVENT
BEGIN:VEVENT
DTSTART;TZID=America/New_York:20260213T090000
DTEND;TZID=America/New_York:20260213T110000
DTSTAMP:20260420T172416
CREATED:20260107T142815Z
LAST-MODIFIED:20260107T142911Z
UID:10000603-1770973200-1770980400@careteamplus.org
SUMMARY:Learn about PrEP!
DESCRIPTION:Is PrEP right for you? Learn more every 2nd Friday of each month starting tomorrow! Our Careteam Plus team will be at Shoreline Behavioral Services so come say hello! 😊
URL:https://careteamplus.org/event/learn-about-prep/2026-02-13/
LOCATION:Shoreline Behavioral Health\, 2404 Wise Road\, Conway\, SC\, 29526\, United States
END:VEVENT
BEGIN:VEVENT
DTSTART;TZID=America/New_York:20260210T110000
DTEND;TZID=America/New_York:20260210T163000
DTSTAMP:20260420T172416
CREATED:20260130T010408Z
LAST-MODIFIED:20260130T010408Z
UID:10001345-1770721200-1770741000@careteamplus.org
SUMMARY:Loris Pop-Ups
DESCRIPTION:EVNT NAME:  Loris Pop-ups \nEVENT DATE: 2/10/2026 \nEVENT TIME:  11-4:30pm \nEVENT ADDRESS: Multiple \nSCHEDULE: \nLoris Church of Christ Parking Lot -4521 Main Street 11-12:30pm \nMoney Saver parking lot -2499 SC-9 Business E\, Loris\, SC 29569 1-2:30pm \nClover Farms Parking lot 3472 Green Sea Rd S Loris 3-4:30pn \nDESCRIPTION OF EVENT: Mobile Testing
URL:https://careteamplus.org/event/loris-pop-ups/
LOCATION:Loris Church of Christ\, 4521 Main Street\, Loris\, SC\, 29569\, United States
END:VEVENT
BEGIN:VEVENT
DTSTART;TZID=America/New_York:20260209T080000
DTEND;TZID=America/New_York:20260209T130000
DTSTAMP:20260420T172416
CREATED:20260126T203910Z
LAST-MODIFIED:20260126T210038Z
UID:10001083-1770624000-1770642000@careteamplus.org
SUMMARY:FREE Walk-In STI Bundles
DESCRIPTION:FREE WALK-IN STI BUNDLES \nOur Pawleys Island location is offering this FREE service every Monday from 8am-1pm! \n  \n 
URL:https://careteamplus.org/event/free-walk-in-sti-bundles-2/2026-02-09/
LOCATION:239 Business Center Drive Pawleys Island SC 29585\, 239 Business Center Drive\, Pawleys Island\, SC\, 29585\, United States
END:VEVENT
BEGIN:VEVENT
DTSTART;TZID=America/New_York:20260204T180000
DTEND;TZID=America/New_York:20260204T190000
DTSTAMP:20260420T172416
CREATED:20260113T191411Z
LAST-MODIFIED:20260324T171432Z
UID:10000921-1770228000-1770231600@careteamplus.org
SUMMARY:Life Balance 360 Class
DESCRIPTION:Life Balance 360 Hosted by Shawn Garrett\, CCHW\,III\nYour health. Your journey. Whether you are pre-diabetic\, diabetic\, or just embracing a healthier lifestyle\, Life Balance 360 is for you! Our nutrition services are open to everyone\, or ANYONE looking to learn healthier lifestyle habits.\n\nLife Balance 360 is offered through Careteam Plus Pre-Diabetes Program. The class is on every other Wednesday starting February 4th. You can choose between the 12p-1p class or the 6p-7p class.\nLife Balance 360 is completely FREE and designed to be engaging and supportive. You’re encouraged to bring a friend or family member and learn together. \nTo join the class TODAY\, please click on the link below from your computer\, tablet or smartphone. https://meet.goto.com/145774797 \nYou can also dial in using your phone. Access Code: 145-774-797 United States: +1 (872) 240-3212 \nGet the app now and be ready when your first meeting starts: https://meet.goto.com/install \nFor class topics\, description\, and class materials; visit our Life Balance 360 page on our website and you can download the class materials from there: https://careteamplus.org/diabetes-prevention-program/ or scan the QR Code in the picture attached.
URL:https://careteamplus.org/event/life-balance-360-class-2/2026-02-04/
LOCATION:100 Professional Park Dr. Conway\, SC 29526\, 100 Professional Park Dr.\, Conway\, SC\, 29526\, United States
END:VEVENT
BEGIN:VEVENT
DTSTART;TZID=America/New_York:20260204T120000
DTEND;TZID=America/New_York:20260204T130000
DTSTAMP:20260420T172416
CREATED:20260113T191253Z
LAST-MODIFIED:20260324T171248Z
UID:10000663-1770206400-1770210000@careteamplus.org
SUMMARY:Life Balance 360 Class
DESCRIPTION:Life Balance 360 Hosted by Shawn Garrett\, CCHW\,III\nYour health. Your journey. Whether you are pre-diabetic\, diabetic\, or just embracing a healthier lifestyle\, Life Balance 360 is for you! Our nutrition services are open to everyone\, or ANYONE looking to learn healthier lifestyle habits.\n\nLife Balance 360 is offered through Careteam Plus Pre-Diabetes Program. The class is on every other Wednesday starting February 4th. You can choose between the 12p-1p class or the 6p-7p class.\nLife Balance 360 is completely FREE and designed to be engaging and supportive. You’re encouraged to bring a friend or family member and learn together. \nTo join the class TODAY\, please click on the link below from your computer\, tablet or smartphone. https://meet.goto.com/145774797 \nYou can also dial in using your phone. Access Code: 145-774-797 United States: +1 (872) 240-3212 \nGet the app now and be ready when your first meeting starts: https://meet.goto.com/install \nFor class topics\, description\, and class materials; visit our Life Balance 360 page on our website and you can download the class materials from there: https://careteamplus.org/diabetes-prevention-program/ or scan the QR Code in the picture attached.
URL:https://careteamplus.org/event/life-balance-360-class/2026-02-04/
LOCATION:100 Professional Park Dr. Conway\, SC 29526\, 100 Professional Park Dr.\, Conway\, SC\, 29526\, United States
END:VEVENT
BEGIN:VEVENT
DTSTART;TZID=America/New_York:20260202T080000
DTEND;TZID=America/New_York:20260202T130000
DTSTAMP:20260420T172416
CREATED:20260126T203910Z
LAST-MODIFIED:20260126T210038Z
UID:10001082-1770019200-1770037200@careteamplus.org
SUMMARY:FREE Walk-In STI Bundles
DESCRIPTION:FREE WALK-IN STI BUNDLES \nOur Pawleys Island location is offering this FREE service every Monday from 8am-1pm! \n  \n 
URL:https://careteamplus.org/event/free-walk-in-sti-bundles-2/2026-02-02/
LOCATION:239 Business Center Drive Pawleys Island SC 29585\, 239 Business Center Drive\, Pawleys Island\, SC\, 29585\, United States
END:VEVENT
BEGIN:VEVENT
DTSTART;TZID=America/New_York:20260126T080000
DTEND;TZID=America/New_York:20260126T130000
DTSTAMP:20260420T172416
CREATED:20260126T203910Z
LAST-MODIFIED:20260126T210038Z
UID:10001081-1769414400-1769432400@careteamplus.org
SUMMARY:FREE Walk-In STI Bundles
DESCRIPTION:FREE WALK-IN STI BUNDLES \nOur Pawleys Island location is offering this FREE service every Monday from 8am-1pm! \n  \n 
URL:https://careteamplus.org/event/free-walk-in-sti-bundles-2/2026-01-26/
LOCATION:239 Business Center Drive Pawleys Island SC 29585\, 239 Business Center Drive\, Pawleys Island\, SC\, 29585\, United States
END:VEVENT
BEGIN:VEVENT
DTSTART;TZID=America/New_York:20260121T090000
DTEND;TZID=America/New_York:20260121T150000
DTSTAMP:20260420T172416
CREATED:20250717T134926Z
LAST-MODIFIED:20250717T135126Z
UID:10000076-1768986000-1769007600@careteamplus.org
SUMMARY:FREE Walk-In STI Bundles
DESCRIPTION:FREE WALK-IN STI BUNDLES \nOur Pawleys Island location is offering this FREE service every Monday and Wednesday from 9am-3pm.
URL:https://careteamplus.org/event/free-walk-in-sti-bundles/2026-01-21/
LOCATION:239 Business Center Drive Pawleys Island SC 29585\, 239 Business Center Drive\, Pawleys Island\, SC\, 29585\, United States
END:VEVENT
BEGIN:VEVENT
DTSTART;TZID=America/New_York:20260119T090000
DTEND;TZID=America/New_York:20260119T150000
DTSTAMP:20260420T172416
CREATED:20250717T134926Z
LAST-MODIFIED:20250717T135126Z
UID:10000075-1768813200-1768834800@careteamplus.org
SUMMARY:FREE Walk-In STI Bundles
DESCRIPTION:FREE WALK-IN STI BUNDLES \nOur Pawleys Island location is offering this FREE service every Monday and Wednesday from 9am-3pm.
URL:https://careteamplus.org/event/free-walk-in-sti-bundles/2026-01-19/
LOCATION:239 Business Center Drive Pawleys Island SC 29585\, 239 Business Center Drive\, Pawleys Island\, SC\, 29585\, United States
END:VEVENT
BEGIN:VEVENT
DTSTART;VALUE=DATE:20260119
DTEND;VALUE=DATE:20260120
DTSTAMP:20260420T172416
CREATED:20251229T125948Z
LAST-MODIFIED:20251229T125948Z
UID:10000601-1768780800-1768867199@careteamplus.org
SUMMARY:We are closed for Dr. Martin Luther King Day
DESCRIPTION:
URL:https://careteamplus.org/event/we-are-closed-for-dr-martin-luther-king-day/
END:VEVENT
BEGIN:VEVENT
DTSTART;TZID=America/New_York:20260117T120000
DTEND;TZID=America/New_York:20260117T150000
DTSTAMP:20260420T172416
CREATED:20251222T192817Z
LAST-MODIFIED:20260112T144916Z
UID:10000596-1768651200-1768662000@careteamplus.org
SUMMARY:Global Day of Service “Health Justice” Zeta Phi Beta Sorority\, Incorporated: Kappa Zeta Zeta Chapter
DESCRIPTION:EVENT NAME: Global Day of Service “Health Justice” Zeta Phi Beta Sorority\, Incorporated: Kappa Zeta Zeta Chapter \nEVENT DATE: 1/17/2026 \nEVENT TIME:  12:00 pm-3:00 pm \nEVENT ADDRESS:  504 Church Street\, Conway\, SC 29526 (Cherry Hill Missionary Baptist Church Parking Lot) \nDESCRIPTION OF EVENT:  Mobile Unit testing\, Educational Materials \nTOPICS: HIV testing/ PrEP /Diabetes
URL:https://careteamplus.org/event/global-day-of-service-health-justice-zeta-phi-beta-sorority-incorporated-kappa-zeta-zeta-chapter/
LOCATION:Cherry Hill Missionary Baptist Church Parking Lot\, 504 Church Street\, Conway\, 29526\, United States
END:VEVENT
BEGIN:VEVENT
DTSTART;TZID=America/New_York:20260114T090000
DTEND;TZID=America/New_York:20260114T150000
DTSTAMP:20260420T172416
CREATED:20250717T134926Z
LAST-MODIFIED:20250717T135126Z
UID:10000074-1768381200-1768402800@careteamplus.org
SUMMARY:FREE Walk-In STI Bundles
DESCRIPTION:FREE WALK-IN STI BUNDLES \nOur Pawleys Island location is offering this FREE service every Monday and Wednesday from 9am-3pm.
URL:https://careteamplus.org/event/free-walk-in-sti-bundles/2026-01-14/
LOCATION:239 Business Center Drive Pawleys Island SC 29585\, 239 Business Center Drive\, Pawleys Island\, SC\, 29585\, United States
END:VEVENT
END:VCALENDAR