BEGIN:VCALENDAR
VERSION:2.0
PRODID:-// - ECPv6.15.18//NONSGML v1.0//EN
CALSCALE:GREGORIAN
METHOD:PUBLISH
X-ORIGINAL-URL:https://careteamplus.org
X-WR-CALDESC:Events for 
REFRESH-INTERVAL;VALUE=DURATION:PT1H
X-Robots-Tag:noindex
X-PUBLISHED-TTL:PT1H
BEGIN:VTIMEZONE
TZID:America/New_York
BEGIN:DAYLIGHT
TZOFFSETFROM:-0500
TZOFFSETTO:-0400
TZNAME:EDT
DTSTART:20240310T070000
END:DAYLIGHT
BEGIN:STANDARD
TZOFFSETFROM:-0400
TZOFFSETTO:-0500
TZNAME:EST
DTSTART:20241103T060000
END:STANDARD
BEGIN:DAYLIGHT
TZOFFSETFROM:-0500
TZOFFSETTO:-0400
TZNAME:EDT
DTSTART:20250309T070000
END:DAYLIGHT
BEGIN:STANDARD
TZOFFSETFROM:-0400
TZOFFSETTO:-0500
TZNAME:EST
DTSTART:20251102T060000
END:STANDARD
BEGIN:DAYLIGHT
TZOFFSETFROM:-0500
TZOFFSETTO:-0400
TZNAME:EDT
DTSTART:20260308T070000
END:DAYLIGHT
BEGIN:STANDARD
TZOFFSETFROM:-0400
TZOFFSETTO:-0500
TZNAME:EST
DTSTART:20261101T060000
END:STANDARD
END:VTIMEZONE
BEGIN:VEVENT
DTSTART;TZID=America/New_York:20251125T100000
DTEND;TZID=America/New_York:20251125T120000
DTSTAMP:20260423T060440
CREATED:20251107T150040Z
LAST-MODIFIED:20251108T182705Z
UID:10000580-1764064800-1764072000@careteamplus.org
SUMMARY:Smith Clinic Health Screening
DESCRIPTION:FREE Health Screening! Come say hello to the Careteam Plus team and we would love to see you! \nEVENT NAME: Smith Clinic \nEVENT DATE:  11/25/2025 \nEVENT TIME: 10am-12pm \nEVENT ADDRESS: 99 Baskerville Drive\, Pawleys Island SC 29585 \nDESCRIPTION OF EVENT: Free Health Screening
URL:https://careteamplus.org/event/smith-clinic-health-screening/
LOCATION:99 Baskerville Drive Pawleys Island SC 29585\, 99 Baskerville Drive\, Pawleys Island\, SC\, 29585\, United States
END:VEVENT
BEGIN:VEVENT
DTSTART;TZID=America/New_York:20251125T080000
DTEND;TZID=America/New_York:20251125T200000
DTSTAMP:20260423T060440
CREATED:20251124T212025Z
LAST-MODIFIED:20251124T212025Z
UID:10000584-1764057600-1764100800@careteamplus.org
SUMMARY:Holiday Hours Tuesday\, 11/25 Open 8:00am-8:00pm
DESCRIPTION:
URL:https://careteamplus.org/event/holiday-hours-tuesday-11-25-open-800am-800pm/
LOCATION:SC
END:VEVENT
BEGIN:VEVENT
DTSTART;VALUE=DATE:20251125
DTEND;VALUE=DATE:20251126
DTSTAMP:20260423T060440
CREATED:20251112T185031Z
LAST-MODIFIED:20251112T185031Z
UID:10000581-1764028800-1764115199@careteamplus.org
SUMMARY:Nutrition Class with Chef Karla
DESCRIPTION:Careteam Plus is bringing you something a little different this month for our Nutrition Series with Chef Karla. For November\, we are making a temporary pivot. Chef Karla has an exciting short-term work opportunity. But do not worry\, she will continue bringing her Nutrition Sessions to you\, and this change is only temporary. While she will not be live this month\, she has prepared a pre-recorded video and PowerPoint presentation so you can still learn and enjoy her Nutrition Session at your own pace. \nChef Karla wants to hear from you. After watching this month’s session\, visit our Facebook page at www.facebook.com/careteam and drop your questions in the comments under the video. She will be checking in and personally responding to your questions. \nYou will not want to miss this month’s Nutrition Class: “Thrive Through the Holidays”! \nThe holiday season is a time of joy\, connection\, and celebration—but it can also challenge our healthy habits. In this class\, you’ll learn practical nutrition strategies to enjoy holiday foods without guilt\, balance indulgence with nourishment\, and keep your energy and well-being a priority. Together\, we’ll explore mindful eating\, smarter swaps\, and tips to stay grounded in your wellness goals while still savoring the season. \nDownload the link to Chef Karla’s PowerPoint Presentation: \nThrive Through the Holidays \nChef Karla’s pre-recorded video – “Thrive Through the Holidays” \n \n 
URL:https://careteamplus.org/event/nutrition-class-with-chef-karla-2/
LOCATION:SC
END:VEVENT
BEGIN:VEVENT
DTSTART;TZID=America/New_York:20251124T090000
DTEND;TZID=America/New_York:20251124T150000
DTSTAMP:20260423T060440
CREATED:20250717T134926Z
LAST-MODIFIED:20250717T135126Z
UID:10000059-1763974800-1763996400@careteamplus.org
SUMMARY:FREE Walk-In STI Bundles
DESCRIPTION:FREE WALK-IN STI BUNDLES \nOur Pawleys Island location is offering this FREE service every Monday and Wednesday from 9am-3pm.
URL:https://careteamplus.org/event/free-walk-in-sti-bundles/2025-11-24/
LOCATION:239 Business Center Drive Pawleys Island SC 29585\, 239 Business Center Drive\, Pawleys Island\, SC\, 29585\, United States
END:VEVENT
BEGIN:VEVENT
DTSTART;TZID=America/New_York:20251122T110000
DTEND;TZID=America/New_York:20251122T133000
DTSTAMP:20260423T060440
CREATED:20251031T172938Z
LAST-MODIFIED:20251104T212350Z
UID:10000577-1763809200-1763818200@careteamplus.org
SUMMARY:POP Up Mary's Angels
DESCRIPTION:EVENT NAME:  POP Up Mary’s Angels       \nEVENT DATE:  11/22/2025 (Saturday) \nEVENT TIME: 11-1:30pm \nEVENT ADDRESS:  4 Peggy Street Kingstree \nDESCRIPTION OF EVENT: Mobile Unit Testing \nNovember 22- Social Post – Pop Up Marys Angels Flier
URL:https://careteamplus.org/event/pop-up-marys-angels/
LOCATION:4 Peggy Street\, Kingstree SC 29556\, 4 Peggy Street\, Kingstree\, SC\, 29556\, United States
END:VEVENT
BEGIN:VEVENT
DTSTART;TZID=America/New_York:20251119T090000
DTEND;TZID=America/New_York:20251119T150000
DTSTAMP:20260423T060440
CREATED:20250717T134926Z
LAST-MODIFIED:20250717T135126Z
UID:10000058-1763542800-1763564400@careteamplus.org
SUMMARY:FREE Walk-In STI Bundles
DESCRIPTION:FREE WALK-IN STI BUNDLES \nOur Pawleys Island location is offering this FREE service every Monday and Wednesday from 9am-3pm.
URL:https://careteamplus.org/event/free-walk-in-sti-bundles/2025-11-19/
LOCATION:239 Business Center Drive Pawleys Island SC 29585\, 239 Business Center Drive\, Pawleys Island\, SC\, 29585\, United States
END:VEVENT
BEGIN:VEVENT
DTSTART;TZID=America/New_York:20251118T100000
DTEND;TZID=America/New_York:20251118T133000
DTSTAMP:20260423T060440
CREATED:20251023T183402Z
LAST-MODIFIED:20251029T182827Z
UID:10000576-1763460000-1763472600@careteamplus.org
SUMMARY:Loris POP UP
DESCRIPTION:Come say hello to the Careteam Plus team\, we would love to see you! \nEVENT NAME:  Loris POP UP \nEVENT DATE: 11/18/2025 \nEVENT TIME: 10-1:30pm \nDESCRIPTION OF EVENT: Mobile Testing \nSCHEDULE: \nLoris Church of Christ Parking Lot -4521 Main Street 10-11:30am \nMoney Saver parking lot -2499 SC-9 Business E\, Loris\, SC 29569 12-1:30pm
URL:https://careteamplus.org/event/loris-pop-up/
LOCATION:Loris Church of Christ\, 4521 Main Street\, Loris\, SC\, 29569\, United States
END:VEVENT
BEGIN:VEVENT
DTSTART;TZID=America/New_York:20251117T090000
DTEND;TZID=America/New_York:20251117T150000
DTSTAMP:20260423T060440
CREATED:20250717T134926Z
LAST-MODIFIED:20250717T135126Z
UID:10000057-1763370000-1763391600@careteamplus.org
SUMMARY:FREE Walk-In STI Bundles
DESCRIPTION:FREE WALK-IN STI BUNDLES \nOur Pawleys Island location is offering this FREE service every Monday and Wednesday from 9am-3pm.
URL:https://careteamplus.org/event/free-walk-in-sti-bundles/2025-11-17/
LOCATION:239 Business Center Drive Pawleys Island SC 29585\, 239 Business Center Drive\, Pawleys Island\, SC\, 29585\, United States
END:VEVENT
BEGIN:VEVENT
DTSTART;TZID=America/New_York:20251115T100000
DTEND;TZID=America/New_York:20251115T140000
DTSTAMP:20260423T060440
CREATED:20251010T141147Z
LAST-MODIFIED:20251010T141147Z
UID:10000574-1763200800-1763215200@careteamplus.org
SUMMARY:Hope for Tomorrow: A Day of Unity and Prevention
DESCRIPTION:Join the Careteam Plus Prevention Team at the Hope for Tomorrow: A Day of Unity and Prevention event! The event is on November 15th from 10a-2p at the Choppee Recreation Center. Our team will provide Mobile Unit Testing so come say hello and we would love to meet you! \nEVENT NAME:  Hope for Tomorrow: A Day of Unity and Prevention \nEVENT DATE: 11/15/2025 \nEVENT TIME: 10:00am-2:00pm \nEVENT ADDRESS: 8259 Choppee Rd. Georgetown\, SC 29440 (Choppee Recreation Center)
URL:https://careteamplus.org/event/hope-for-tomorrow-a-day-of-unity-and-prevention/
LOCATION:Choppee Recreation Center\, 8259 Choppee Rd.\, Georgetown\, SC\, 29440\, United States
END:VEVENT
BEGIN:VEVENT
DTSTART;TZID=America/New_York:20251112T090000
DTEND;TZID=America/New_York:20251112T150000
DTSTAMP:20260423T060440
CREATED:20250717T134926Z
LAST-MODIFIED:20250717T135126Z
UID:10000056-1762938000-1762959600@careteamplus.org
SUMMARY:FREE Walk-In STI Bundles
DESCRIPTION:FREE WALK-IN STI BUNDLES \nOur Pawleys Island location is offering this FREE service every Monday and Wednesday from 9am-3pm.
URL:https://careteamplus.org/event/free-walk-in-sti-bundles/2025-11-12/
LOCATION:239 Business Center Drive Pawleys Island SC 29585\, 239 Business Center Drive\, Pawleys Island\, SC\, 29585\, United States
END:VEVENT
BEGIN:VEVENT
DTSTART;TZID=America/New_York:20251111T100000
DTEND;TZID=America/New_York:20251111T120000
DTSTAMP:20260423T060440
CREATED:20251104T205726Z
LAST-MODIFIED:20251104T205726Z
UID:10000579-1762855200-1762862400@careteamplus.org
SUMMARY:Dollar General Health Screening Pop-Up
DESCRIPTION:Join the Prevention Team of Careteam Plus at the Dollar General Health Screening Pop-Up Event! \nEVENT NAME: Dollar General     \nEVENT DATE: 11/11/2025                \nEVENT TIME:   10-12pm \nEVENT ADDRESS:  4769 US-501\, Myrtle Beach\, SC 29579
URL:https://careteamplus.org/event/dollar-general-health-screening-pop-up/
LOCATION:4769 US-501\, Myrtle Beach\, SC 29579\, 4769 US-501\, Myrtle Beach\, 29579\, United States
END:VEVENT
BEGIN:VEVENT
DTSTART;TZID=America/New_York:20251110T090000
DTEND;TZID=America/New_York:20251110T150000
DTSTAMP:20260423T060440
CREATED:20250717T134926Z
LAST-MODIFIED:20250717T135126Z
UID:10000055-1762765200-1762786800@careteamplus.org
SUMMARY:FREE Walk-In STI Bundles
DESCRIPTION:FREE WALK-IN STI BUNDLES \nOur Pawleys Island location is offering this FREE service every Monday and Wednesday from 9am-3pm.
URL:https://careteamplus.org/event/free-walk-in-sti-bundles/2025-11-10/
LOCATION:239 Business Center Drive Pawleys Island SC 29585\, 239 Business Center Drive\, Pawleys Island\, SC\, 29585\, United States
END:VEVENT
BEGIN:VEVENT
DTSTART;TZID=America/New_York:20251105T090000
DTEND;TZID=America/New_York:20251105T150000
DTSTAMP:20260423T060440
CREATED:20250717T134926Z
LAST-MODIFIED:20250717T135126Z
UID:10000054-1762333200-1762354800@careteamplus.org
SUMMARY:FREE Walk-In STI Bundles
DESCRIPTION:FREE WALK-IN STI BUNDLES \nOur Pawleys Island location is offering this FREE service every Monday and Wednesday from 9am-3pm.
URL:https://careteamplus.org/event/free-walk-in-sti-bundles/2025-11-05/
LOCATION:239 Business Center Drive Pawleys Island SC 29585\, 239 Business Center Drive\, Pawleys Island\, SC\, 29585\, United States
END:VEVENT
BEGIN:VEVENT
DTSTART;TZID=America/New_York:20251104T100000
DTEND;TZID=America/New_York:20251104T120000
DTSTAMP:20260423T060440
CREATED:20251023T182628Z
LAST-MODIFIED:20251029T181419Z
UID:10000575-1762250400-1762257600@careteamplus.org
SUMMARY:Dollar General Health Screening Pop-Up
DESCRIPTION:Join the Prevention Team of Careteam Plus at the Dollar General Health Screening Pop-Up Event! \nEVENT NAME: Dollar General     \nEVENT DATE: 11/4/2025                \nEVENT TIME:   10-12pm \nEVENT ADDRESS:  4769 US-501\, Myrtle Beach\, SC 29579
URL:https://careteamplus.org/event/dollar-general-testing-event/
LOCATION:4769 US-501\, Myrtle Beach\, SC 29579\, 4769 US-501\, Myrtle Beach\, 29579\, United States
END:VEVENT
BEGIN:VEVENT
DTSTART;TZID=America/New_York:20251103T090000
DTEND;TZID=America/New_York:20251103T150000
DTSTAMP:20260423T060440
CREATED:20250717T134926Z
LAST-MODIFIED:20250717T135126Z
UID:10000053-1762160400-1762182000@careteamplus.org
SUMMARY:FREE Walk-In STI Bundles
DESCRIPTION:FREE WALK-IN STI BUNDLES \nOur Pawleys Island location is offering this FREE service every Monday and Wednesday from 9am-3pm.
URL:https://careteamplus.org/event/free-walk-in-sti-bundles/2025-11-03/
LOCATION:239 Business Center Drive Pawleys Island SC 29585\, 239 Business Center Drive\, Pawleys Island\, SC\, 29585\, United States
END:VEVENT
BEGIN:VEVENT
DTSTART;TZID=America/New_York:20251029T120000
DTEND;TZID=America/New_York:20251029T130000
DTSTAMP:20260423T060440
CREATED:20251008T131635Z
LAST-MODIFIED:20251008T131635Z
UID:10000573-1761739200-1761742800@careteamplus.org
SUMMARY:Groundbreaking Ceremony hosted by Mary's Angels
DESCRIPTION:Come say hello to Shawn Garrett\, our Community Worker\, at this groundbreaking event. Shawn will be speaking on behalf of the community partners and talk about the services that Careteam Plus provides to our community. ☺️
URL:https://careteamplus.org/event/groundbreaking-ceremony-hosted-by-marys-angels/
LOCATION:4 Peggy Street\, Kingstree SC 29556\, 4 Peggy Street\, Kingstree\, SC\, 29556\, United States
END:VEVENT
BEGIN:VEVENT
DTSTART;TZID=America/New_York:20251029T090000
DTEND;TZID=America/New_York:20251029T150000
DTSTAMP:20260423T060440
CREATED:20250717T134926Z
LAST-MODIFIED:20250717T135126Z
UID:10000052-1761728400-1761750000@careteamplus.org
SUMMARY:FREE Walk-In STI Bundles
DESCRIPTION:FREE WALK-IN STI BUNDLES \nOur Pawleys Island location is offering this FREE service every Monday and Wednesday from 9am-3pm.
URL:https://careteamplus.org/event/free-walk-in-sti-bundles/2025-10-29/
LOCATION:239 Business Center Drive Pawleys Island SC 29585\, 239 Business Center Drive\, Pawleys Island\, SC\, 29585\, United States
END:VEVENT
BEGIN:VEVENT
DTSTART;VALUE=DATE:20251028
DTEND;VALUE=DATE:20251029
DTSTAMP:20260423T060440
CREATED:20250707T184014Z
LAST-MODIFIED:20251009T160133Z
UID:10000019-1761609600-1761695999@careteamplus.org
SUMMARY:Nutrition Class with Chef Karla
DESCRIPTION:Careteam Plus is bringing you something a little different this month for our Nutrition Series with Chef Karla. For October\, we are making a temporary pivot. Chef Karla has an exciting short-term work opportunity. But do not worry\, she will continue bringing her Nutrition Sessions to you\, and this change is only temporary. While she will not be live this month\, she has prepared a pre-recorded video and PowerPoint presentation so you can still learn and enjoy her Nutrition Session at your own pace. \nChef Karla wants to hear from you. After watching this month’s session\, visit our Facebook page at www.facebook.com/careteam and drop your questions in the comments under the video. She will be checking in and personally responding to your questions. \nYou will not want to miss this month’s eye-opening topic: “The Truth About Sugar”! \nThe Truth About Sugar: How to Curb Your Sweet Tooth and Improve Your Health  \nSugar is everywhere\, but do we really understand its impact on our health? Join us for a seminar that reveals the truth about sugar and its effects on our bodies. From blood sugar spikes to long-term health risks\, we’ll explore how sugar influences weight\, energy\, and chronic diseases. Plus\, we’ll share practical tips on how to reduce your sugar intake without sacrificing flavor—so you can satisfy your sweet tooth while taking control of your health. \nDownload the link to Chef Karla’s PowerPoint Presentation: \nTruth About Sugar\nChef Karla pre-recorded video:
URL:https://careteamplus.org/event/nutrition-class-with-chef-karla-4/
LOCATION:SC
END:VEVENT
BEGIN:VEVENT
DTSTART;TZID=America/New_York:20251027T090000
DTEND;TZID=America/New_York:20251027T150000
DTSTAMP:20260423T060440
CREATED:20250717T134926Z
LAST-MODIFIED:20250717T135126Z
UID:10000051-1761555600-1761577200@careteamplus.org
SUMMARY:FREE Walk-In STI Bundles
DESCRIPTION:FREE WALK-IN STI BUNDLES \nOur Pawleys Island location is offering this FREE service every Monday and Wednesday from 9am-3pm.
URL:https://careteamplus.org/event/free-walk-in-sti-bundles/2025-10-27/
LOCATION:239 Business Center Drive Pawleys Island SC 29585\, 239 Business Center Drive\, Pawleys Island\, SC\, 29585\, United States
END:VEVENT
BEGIN:VEVENT
DTSTART;TZID=America/New_York:20251022T110000
DTEND;TZID=America/New_York:20251022T120000
DTSTAMP:20260423T060440
CREATED:20251002T174927Z
LAST-MODIFIED:20251002T174927Z
UID:10000571-1761130800-1761134400@careteamplus.org
SUMMARY:Lunch with the Neighbor
DESCRIPTION:Come meet Shawn Garrett\, our Community Health Worker\, and say hello. He will be setting up a table during their lunch time feeding to the community. Learn about Careteam Plus services and what we offer. You can also meet our prevention team who will provide testing once a month. \nDate: October 22\, 2025 \nTime: 11:00am-12:00pm \nLocation: Friendship Place Inc – 1423 Front Street Georgetown SC 29440 \n 
URL:https://careteamplus.org/event/lunch-with-the-neighbor-4/
LOCATION:Friendship Place Inc\, 1423 Front Street\, Georgetown\, 29440\, United States
END:VEVENT
BEGIN:VEVENT
DTSTART;TZID=America/New_York:20251022T090000
DTEND;TZID=America/New_York:20251022T150000
DTSTAMP:20260423T060440
CREATED:20250717T134926Z
LAST-MODIFIED:20250717T135126Z
UID:10000050-1761123600-1761145200@careteamplus.org
SUMMARY:FREE Walk-In STI Bundles
DESCRIPTION:FREE WALK-IN STI BUNDLES \nOur Pawleys Island location is offering this FREE service every Monday and Wednesday from 9am-3pm.
URL:https://careteamplus.org/event/free-walk-in-sti-bundles/2025-10-22/
LOCATION:239 Business Center Drive Pawleys Island SC 29585\, 239 Business Center Drive\, Pawleys Island\, SC\, 29585\, United States
END:VEVENT
BEGIN:VEVENT
DTSTART;TZID=America/New_York:20251020T090000
DTEND;TZID=America/New_York:20251020T150000
DTSTAMP:20260423T060440
CREATED:20250717T134926Z
LAST-MODIFIED:20250717T135126Z
UID:10000049-1760950800-1760972400@careteamplus.org
SUMMARY:FREE Walk-In STI Bundles
DESCRIPTION:FREE WALK-IN STI BUNDLES \nOur Pawleys Island location is offering this FREE service every Monday and Wednesday from 9am-3pm.
URL:https://careteamplus.org/event/free-walk-in-sti-bundles/2025-10-20/
LOCATION:239 Business Center Drive Pawleys Island SC 29585\, 239 Business Center Drive\, Pawleys Island\, SC\, 29585\, United States
END:VEVENT
BEGIN:VEVENT
DTSTART;TZID=America/New_York:20251015T090000
DTEND;TZID=America/New_York:20251015T150000
DTSTAMP:20260423T060440
CREATED:20250717T134926Z
LAST-MODIFIED:20250717T135126Z
UID:10000048-1760518800-1760540400@careteamplus.org
SUMMARY:FREE Walk-In STI Bundles
DESCRIPTION:FREE WALK-IN STI BUNDLES \nOur Pawleys Island location is offering this FREE service every Monday and Wednesday from 9am-3pm.
URL:https://careteamplus.org/event/free-walk-in-sti-bundles/2025-10-15/
LOCATION:239 Business Center Drive Pawleys Island SC 29585\, 239 Business Center Drive\, Pawleys Island\, SC\, 29585\, United States
END:VEVENT
BEGIN:VEVENT
DTSTART;TZID=America/New_York:20251013T090000
DTEND;TZID=America/New_York:20251013T150000
DTSTAMP:20260423T060440
CREATED:20250717T134926Z
LAST-MODIFIED:20250717T135126Z
UID:10000047-1760346000-1760367600@careteamplus.org
SUMMARY:FREE Walk-In STI Bundles
DESCRIPTION:FREE WALK-IN STI BUNDLES \nOur Pawleys Island location is offering this FREE service every Monday and Wednesday from 9am-3pm.
URL:https://careteamplus.org/event/free-walk-in-sti-bundles/2025-10-13/
LOCATION:239 Business Center Drive Pawleys Island SC 29585\, 239 Business Center Drive\, Pawleys Island\, SC\, 29585\, United States
END:VEVENT
BEGIN:VEVENT
DTSTART;TZID=America/New_York:20251010T093000
DTEND;TZID=America/New_York:20251010T120000
DTSTAMP:20260423T060440
CREATED:20250911T164340Z
LAST-MODIFIED:20250911T164340Z
UID:10000564-1760088600-1760097600@careteamplus.org
SUMMARY:Low Country Urgent Care Testing Event
DESCRIPTION:Join the Prevention Team of Careteam Plus at the Low Country Urgent Care Testing Event! \nEVENT NAME:  Low Country Urgent Care \nEVENT DATE: October 10th (Friday) \nEVENT TIME: 9:30-12pm \nEVENT ADDRESS:  4520 Broad Street Loris \nDESCRIPTION OF THE EVENT: Mobile Testing
URL:https://careteamplus.org/event/low-country-urgent-care-testing-event/
LOCATION:Low Country Urgent Care\, 4520 Broad Street\, Loris\, SC\, 29569\, United States
END:VEVENT
BEGIN:VEVENT
DTSTART;TZID=America/New_York:20251009T120000
DTEND;TZID=America/New_York:20251009T130000
DTSTAMP:20260423T060440
CREATED:20251008T130458Z
LAST-MODIFIED:20251008T130458Z
UID:10000572-1760011200-1760014800@careteamplus.org
SUMMARY:Low Country Re-Entry Community Outreach
DESCRIPTION:Come say hi to our Community Health Worker\, Shawn Garrett\, at the Low Country Re-Entry Community Outreach today at 12n. Shawn will have a Careteam Plus table at the event so come say hello and learn about Careteam Plus services. ☺️
URL:https://careteamplus.org/event/low-country-re-entry-community-outreach/
LOCATION:Chavis One Stop in Hemmingway\, 2811 SC-41\, Hemingway\, SC\, 29554\, United States
END:VEVENT
BEGIN:VEVENT
DTSTART;TZID=America/New_York:20251008T090000
DTEND;TZID=America/New_York:20251008T150000
DTSTAMP:20260423T060440
CREATED:20250717T134926Z
LAST-MODIFIED:20250717T135126Z
UID:10000046-1759914000-1759935600@careteamplus.org
SUMMARY:FREE Walk-In STI Bundles
DESCRIPTION:FREE WALK-IN STI BUNDLES \nOur Pawleys Island location is offering this FREE service every Monday and Wednesday from 9am-3pm.
URL:https://careteamplus.org/event/free-walk-in-sti-bundles/2025-10-08/
LOCATION:239 Business Center Drive Pawleys Island SC 29585\, 239 Business Center Drive\, Pawleys Island\, SC\, 29585\, United States
END:VEVENT
BEGIN:VEVENT
DTSTART;TZID=America/New_York:20251006T110000
DTEND;TZID=America/New_York:20251006T120000
DTSTAMP:20260423T060440
CREATED:20251002T174753Z
LAST-MODIFIED:20251002T174753Z
UID:10000570-1759748400-1759752000@careteamplus.org
SUMMARY:Lunch with the Neighbor
DESCRIPTION:Come meet Shawn Garrett\, our Community Health Worker\, and say hello. He will be setting up a table during their lunch time feeding to the community. Learn about Careteam Plus services and what we offer. You can also meet our prevention team who will provide testing once a month. \nDate: October 6\, 2025 \nTime: 11:00am-12:00pm \nLocation: Friendship Place Inc – 1423 Front Street Georgetown SC 29440 \n 
URL:https://careteamplus.org/event/lunch-with-the-neighbor-3/
LOCATION:Friendship Place Inc\, 1423 Front Street\, Georgetown\, 29440\, United States
END:VEVENT
BEGIN:VEVENT
DTSTART;TZID=America/New_York:20251006T090000
DTEND;TZID=America/New_York:20251006T150000
DTSTAMP:20260423T060440
CREATED:20250717T134926Z
LAST-MODIFIED:20250717T135126Z
UID:10000045-1759741200-1759762800@careteamplus.org
SUMMARY:FREE Walk-In STI Bundles
DESCRIPTION:FREE WALK-IN STI BUNDLES \nOur Pawleys Island location is offering this FREE service every Monday and Wednesday from 9am-3pm.
URL:https://careteamplus.org/event/free-walk-in-sti-bundles/2025-10-06/
LOCATION:239 Business Center Drive Pawleys Island SC 29585\, 239 Business Center Drive\, Pawleys Island\, SC\, 29585\, United States
END:VEVENT
BEGIN:VEVENT
DTSTART;TZID=America/New_York:20251004T110000
DTEND;TZID=America/New_York:20251004T140000
DTSTAMP:20260423T060440
CREATED:20250809T044605Z
LAST-MODIFIED:20250809T044605Z
UID:10000558-1759575600-1759586400@careteamplus.org
SUMMARY:Community Resource Fair
DESCRIPTION:EVENT NAME: Community Resource Fair \nEVENT DATE: October 4\, 2025 \nEVENT TIME: 11:00am – 2:00pm \nEVENT ADDRESS: 4187 Powell Rd. Georgetown\, SC 29440 (Southern Georgetown Library) \nDESCRIPTION: Mobile Unit for HIV Testing and Educational Materials.
URL:https://careteamplus.org/event/community-resource-fair/
LOCATION:Southern Georgetown Library\, 4187 Powell Rd.\, Georgetown\, South Carolina\, 29440\, United States
END:VEVENT
END:VCALENDAR