BEGIN:VCALENDAR
VERSION:2.0
PRODID:-// - ECPv6.15.18//NONSGML v1.0//EN
CALSCALE:GREGORIAN
METHOD:PUBLISH
X-ORIGINAL-URL:https://careteamplus.org
X-WR-CALDESC:Events for 
REFRESH-INTERVAL;VALUE=DURATION:PT1H
X-Robots-Tag:noindex
X-PUBLISHED-TTL:PT1H
BEGIN:VTIMEZONE
TZID:America/New_York
BEGIN:DAYLIGHT
TZOFFSETFROM:-0500
TZOFFSETTO:-0400
TZNAME:EDT
DTSTART:20240310T070000
END:DAYLIGHT
BEGIN:STANDARD
TZOFFSETFROM:-0400
TZOFFSETTO:-0500
TZNAME:EST
DTSTART:20241103T060000
END:STANDARD
BEGIN:DAYLIGHT
TZOFFSETFROM:-0500
TZOFFSETTO:-0400
TZNAME:EDT
DTSTART:20250309T070000
END:DAYLIGHT
BEGIN:STANDARD
TZOFFSETFROM:-0400
TZOFFSETTO:-0500
TZNAME:EST
DTSTART:20251102T060000
END:STANDARD
BEGIN:DAYLIGHT
TZOFFSETFROM:-0500
TZOFFSETTO:-0400
TZNAME:EDT
DTSTART:20260308T070000
END:DAYLIGHT
BEGIN:STANDARD
TZOFFSETFROM:-0400
TZOFFSETTO:-0500
TZNAME:EST
DTSTART:20261101T060000
END:STANDARD
END:VTIMEZONE
BEGIN:VEVENT
DTSTART;TZID=America/New_York:20251010T093000
DTEND;TZID=America/New_York:20251010T120000
DTSTAMP:20260423T091820
CREATED:20250911T164340Z
LAST-MODIFIED:20250911T164340Z
UID:10000564-1760088600-1760097600@careteamplus.org
SUMMARY:Low Country Urgent Care Testing Event
DESCRIPTION:Join the Prevention Team of Careteam Plus at the Low Country Urgent Care Testing Event! \nEVENT NAME:  Low Country Urgent Care \nEVENT DATE: October 10th (Friday) \nEVENT TIME: 9:30-12pm \nEVENT ADDRESS:  4520 Broad Street Loris \nDESCRIPTION OF THE EVENT: Mobile Testing
URL:https://careteamplus.org/event/low-country-urgent-care-testing-event/
LOCATION:Low Country Urgent Care\, 4520 Broad Street\, Loris\, SC\, 29569\, United States
END:VEVENT
BEGIN:VEVENT
DTSTART;TZID=America/New_York:20251009T120000
DTEND;TZID=America/New_York:20251009T130000
DTSTAMP:20260423T091820
CREATED:20251008T130458Z
LAST-MODIFIED:20251008T130458Z
UID:10000572-1760011200-1760014800@careteamplus.org
SUMMARY:Low Country Re-Entry Community Outreach
DESCRIPTION:Come say hi to our Community Health Worker\, Shawn Garrett\, at the Low Country Re-Entry Community Outreach today at 12n. Shawn will have a Careteam Plus table at the event so come say hello and learn about Careteam Plus services. ☺️
URL:https://careteamplus.org/event/low-country-re-entry-community-outreach/
LOCATION:Chavis One Stop in Hemmingway\, 2811 SC-41\, Hemingway\, SC\, 29554\, United States
END:VEVENT
BEGIN:VEVENT
DTSTART;TZID=America/New_York:20251008T090000
DTEND;TZID=America/New_York:20251008T150000
DTSTAMP:20260423T091820
CREATED:20250717T134926Z
LAST-MODIFIED:20250717T135126Z
UID:10000046-1759914000-1759935600@careteamplus.org
SUMMARY:FREE Walk-In STI Bundles
DESCRIPTION:FREE WALK-IN STI BUNDLES \nOur Pawleys Island location is offering this FREE service every Monday and Wednesday from 9am-3pm.
URL:https://careteamplus.org/event/free-walk-in-sti-bundles/2025-10-08/
LOCATION:239 Business Center Drive Pawleys Island SC 29585\, 239 Business Center Drive\, Pawleys Island\, SC\, 29585\, United States
END:VEVENT
BEGIN:VEVENT
DTSTART;TZID=America/New_York:20251006T110000
DTEND;TZID=America/New_York:20251006T120000
DTSTAMP:20260423T091820
CREATED:20251002T174753Z
LAST-MODIFIED:20251002T174753Z
UID:10000570-1759748400-1759752000@careteamplus.org
SUMMARY:Lunch with the Neighbor
DESCRIPTION:Come meet Shawn Garrett\, our Community Health Worker\, and say hello. He will be setting up a table during their lunch time feeding to the community. Learn about Careteam Plus services and what we offer. You can also meet our prevention team who will provide testing once a month. \nDate: October 6\, 2025 \nTime: 11:00am-12:00pm \nLocation: Friendship Place Inc – 1423 Front Street Georgetown SC 29440 \n 
URL:https://careteamplus.org/event/lunch-with-the-neighbor-3/
LOCATION:Friendship Place Inc\, 1423 Front Street\, Georgetown\, 29440\, United States
END:VEVENT
BEGIN:VEVENT
DTSTART;TZID=America/New_York:20251006T090000
DTEND;TZID=America/New_York:20251006T150000
DTSTAMP:20260423T091820
CREATED:20250717T134926Z
LAST-MODIFIED:20250717T135126Z
UID:10000045-1759741200-1759762800@careteamplus.org
SUMMARY:FREE Walk-In STI Bundles
DESCRIPTION:FREE WALK-IN STI BUNDLES \nOur Pawleys Island location is offering this FREE service every Monday and Wednesday from 9am-3pm.
URL:https://careteamplus.org/event/free-walk-in-sti-bundles/2025-10-06/
LOCATION:239 Business Center Drive Pawleys Island SC 29585\, 239 Business Center Drive\, Pawleys Island\, SC\, 29585\, United States
END:VEVENT
BEGIN:VEVENT
DTSTART;TZID=America/New_York:20251004T110000
DTEND;TZID=America/New_York:20251004T140000
DTSTAMP:20260423T091820
CREATED:20250809T044605Z
LAST-MODIFIED:20250809T044605Z
UID:10000558-1759575600-1759586400@careteamplus.org
SUMMARY:Community Resource Fair
DESCRIPTION:EVENT NAME: Community Resource Fair \nEVENT DATE: October 4\, 2025 \nEVENT TIME: 11:00am – 2:00pm \nEVENT ADDRESS: 4187 Powell Rd. Georgetown\, SC 29440 (Southern Georgetown Library) \nDESCRIPTION: Mobile Unit for HIV Testing and Educational Materials.
URL:https://careteamplus.org/event/community-resource-fair/
LOCATION:Southern Georgetown Library\, 4187 Powell Rd.\, Georgetown\, South Carolina\, 29440\, United States
END:VEVENT
BEGIN:VEVENT
DTSTART;TZID=America/New_York:20251002T080000
DTEND;TZID=America/New_York:20251002T154500
DTSTAMP:20260423T091820
CREATED:20250716T180623Z
LAST-MODIFIED:20250716T182522Z
UID:10000021-1759392000-1759419900@careteamplus.org
SUMMARY:Women's Health Day - Conway Location
DESCRIPTION:🤗 🗓️ Join us on Thursday\, October 2\, 2025\, from 8:00 AM to 3:45 PM for a special Women’s Health Day in honor of Breast Cancer Awareness Month. This event is hosted by Careteam Plus in partnership with the Conway Medical Center Mammography Van\, which will be on-site to provide services. \nWe are offering Free Mammograms and Pap Smear screenings to support women’s preventive health. Just as mammograms are vital for early detection of breast cancer\, Pap smears are equally important for identifying cervical cancer early. Both screenings improve outcomes and save lives!  Appointments are encouraged\, but Walk-Ins are always welcome as space permits. \nSave the date and call 843-234-8230 to schedule your appointment or ask any questions about the event. Taking care of your health starts here! \n📣🎉 Flyer Preview — don’t miss it! 👇 \n Women’s Health Day Oct. 2\, 2025_Careteam Plus
URL:https://careteamplus.org/event/womens-health-day-conway-location/
LOCATION:100 Professional Park Dr. Conway\, SC 29526\, 100 Professional Park Dr.\, Conway\, SC\, 29526\, United States
END:VEVENT
BEGIN:VEVENT
DTSTART;TZID=America/New_York:20251001T090000
DTEND;TZID=America/New_York:20251001T150000
DTSTAMP:20260423T091820
CREATED:20250717T134926Z
LAST-MODIFIED:20250717T135126Z
UID:10000044-1759309200-1759330800@careteamplus.org
SUMMARY:FREE Walk-In STI Bundles
DESCRIPTION:FREE WALK-IN STI BUNDLES \nOur Pawleys Island location is offering this FREE service every Monday and Wednesday from 9am-3pm.
URL:https://careteamplus.org/event/free-walk-in-sti-bundles/2025-10-01/
LOCATION:239 Business Center Drive Pawleys Island SC 29585\, 239 Business Center Drive\, Pawleys Island\, SC\, 29585\, United States
END:VEVENT
BEGIN:VEVENT
DTSTART;TZID=America/New_York:20250930T090000
DTEND;TZID=America/New_York:20250930T120000
DTSTAMP:20260423T091820
CREATED:20250930T113849Z
LAST-MODIFIED:20250930T113849Z
UID:10000569-1759222800-1759233600@careteamplus.org
SUMMARY:Harvest of Hope Resource Fair
DESCRIPTION:Come say hello to Shawn Garrett\, our Community Health Worker\, at the Harvest of Hope Resource Fair. The event is hosted by Shoreline Behavioral and will be at the Shepherd of the Sea-Lutheran. The address is 2637 S Hey 17 in Murrells Inlet. See you there!
URL:https://careteamplus.org/event/harvest-of-hope-resource-fair/
LOCATION:Shepherd of the Sea-Lutheran\, 2637 S Hwy 17\, Murrells Inlet\, SC\, 29576\, United States
END:VEVENT
BEGIN:VEVENT
DTSTART;TZID=America/New_York:20250929T090000
DTEND;TZID=America/New_York:20250929T150000
DTSTAMP:20260423T091820
CREATED:20250717T134926Z
LAST-MODIFIED:20250717T135126Z
UID:10000043-1759136400-1759158000@careteamplus.org
SUMMARY:FREE Walk-In STI Bundles
DESCRIPTION:FREE WALK-IN STI BUNDLES \nOur Pawleys Island location is offering this FREE service every Monday and Wednesday from 9am-3pm.
URL:https://careteamplus.org/event/free-walk-in-sti-bundles/2025-09-29/
LOCATION:239 Business Center Drive Pawleys Island SC 29585\, 239 Business Center Drive\, Pawleys Island\, SC\, 29585\, United States
END:VEVENT
BEGIN:VEVENT
DTSTART;TZID=America/New_York:20250927T130000
DTEND;TZID=America/New_York:20250927T160000
DTSTAMP:20260423T091820
CREATED:20250717T133806Z
LAST-MODIFIED:20250904T142435Z
UID:10000022-1758978000-1758988800@careteamplus.org
SUMMARY:Serving Up Knowledge: Get PrEPped for PrEP
DESCRIPTION:Join Careteam Plus and Gilead for a lunch and learn event: Serving Up Knowledge: Get PrEPped for PrEP!  50 lunchboxes and healthy sexual swag will be provided! Learn about PrEP medication options that are available! \nEVENT DATE: Saturday\, September 27th\, 2025 \nEVENT TIME: 1:00pm-4:00pm \nEVENT ADDRESS: 100 Professional Park Drive Conway SC 29566 \nDESCRIPTION OF THE EVENT: Mobile Unit Testing\, Educational Material\, and Testing event
URL:https://careteamplus.org/event/careteam-plus-prep-block-party-50-lunches-prep-healthy-sexual/
LOCATION:100 Professional Park Dr. Conway\, SC 29526\, 100 Professional Park Dr.\, Conway\, SC\, 29526\, United States
END:VEVENT
BEGIN:VEVENT
DTSTART;TZID=America/New_York:20250925T120000
DTEND;TZID=America/New_York:20250925T150000
DTSTAMP:20260423T091820
CREATED:20250911T133857Z
LAST-MODIFIED:20250911T134758Z
UID:10000563-1758801600-1758812400@careteamplus.org
SUMMARY:Williamsburg Recovery Month Event
DESCRIPTION:Join Careteam Plus and CARPS SC in recognizing National Recovery Month! We will be in the parking lot of Food Lion at 1319 Long St.\, Kingstree\, SC\, 29556 from 12:00 pm to 3:00 pm on September 25\, 2025. \nWe will be distributing Narcan\, Fentanyl and Xylazine test strips\, safe sex supplies\, and other harm reduction supplies. We will be testing for HIV and Hepatitis C. Our dedicated Certified Peer Support Specialists (people who are recovering from addiction) will be onsite to work with anyone interested in receiving services. \nAll supplies and services are free of charge!
URL:https://careteamplus.org/event/williamsburg-recovery-month-event/
LOCATION:Food Lion\, 1319 Long St.\, Kingstree\, SC\, 29556\, United States
END:VEVENT
BEGIN:VEVENT
DTSTART;TZID=America/New_York:20250924T110000
DTEND;TZID=America/New_York:20250924T120000
DTSTAMP:20260423T091820
CREATED:20250823T203808Z
LAST-MODIFIED:20250823T203808Z
UID:10000561-1758711600-1758715200@careteamplus.org
SUMMARY:Lunch with the Neighbor
DESCRIPTION:Come meet Shawn Garrett\, our Community Health Worker\, and say hello. He will be setting up a table during their lunch time feeding to the community. Learn about Careteam Plus services and what we offer. You can also meet our prevention team who will provide testing once a month. \nDate: September 24\, 2025 \nTime: 11:00am-12:00pm \nLocation: Friendship Place Inc – 1423 Front Street Georgetown SC 29440 \n 
URL:https://careteamplus.org/event/lunch-with-the-neighbor-2/
LOCATION:Friendship Place Inc\, 1423 Front Street\, Georgetown\, 29440\, United States
END:VEVENT
BEGIN:VEVENT
DTSTART;TZID=America/New_York:20250924T090000
DTEND;TZID=America/New_York:20250924T150000
DTSTAMP:20260423T091820
CREATED:20250717T134926Z
LAST-MODIFIED:20250717T135126Z
UID:10000042-1758704400-1758726000@careteamplus.org
SUMMARY:FREE Walk-In STI Bundles
DESCRIPTION:FREE WALK-IN STI BUNDLES \nOur Pawleys Island location is offering this FREE service every Monday and Wednesday from 9am-3pm.
URL:https://careteamplus.org/event/free-walk-in-sti-bundles/2025-09-24/
LOCATION:239 Business Center Drive Pawleys Island SC 29585\, 239 Business Center Drive\, Pawleys Island\, SC\, 29585\, United States
END:VEVENT
BEGIN:VEVENT
DTSTART;TZID=America/New_York:20250923T160000
DTEND;TZID=America/New_York:20250923T170000
DTSTAMP:20260423T091820
CREATED:20250707T183558Z
LAST-MODIFIED:20250921T225641Z
UID:10000018-1758643200-1758646800@careteamplus.org
SUMMARY:Nutrition Class with Chef Karla
DESCRIPTION:Careteam Plus presents a Nutrition Series with Chef Karla every 4th Tuesday of every month at 4:00pm. September Nutrition Class is on September 23\, 2025. \nGut Health 101: The Connection Between Digestion and Well-Being  \nYour gut is more than just a digestive system—it’s the foundation of your overall health! Join us for a deep dive into the world of gut health and discover how your digestive system impacts everything from immunity to mood and energy. In this seminar\, we’ll explore the science behind a healthy microbiome\, the foods that support digestion\, and simple lifestyle changes to improve gut function. Learn how to nourish your gut and unlock better health from the inside out! \nClick the link below to download the presentation for Gut Health 101: The Connection Between Digestion and Well-Being: \nGut Health September \n  \nCLICK THE LINK BELOW TO JOIN LIVE:\nJoin here: https://meet.goto.com/315131869\nDial-in Access Code: 315-131-869\n Phone: +1 (571) 317-3122\nGet the app: https://meet.goto.com/install
URL:https://careteamplus.org/event/nutrition-class-with-chef-karla-3/
LOCATION:SC
END:VEVENT
BEGIN:VEVENT
DTSTART;TZID=America/New_York:20250923T130000
DTEND;TZID=America/New_York:20250923T160000
DTSTAMP:20260423T091820
CREATED:20250618T194900Z
LAST-MODIFIED:20250618T195051Z
UID:10000013-1758632400-1758643200@careteamplus.org
SUMMARY:The South Carolina Department of Public Health 6th Annual PrEP Awareness Week FREE HIV College Testing Event
DESCRIPTION:EVENTNAME: DHEC’s 6th Annual PrEP Awareness Week FREE HIV College Testing Event \nEVENT DATE: Tuesday\, September 23\, 2025 \nEVENT TIME: 1pm-4pm \nEVENT ADDRESS:    100 Tom Trout Dr\, Conway\, SC 29526 (Prince Lawn) \nDESCRIPTION OF THE EVENT: In-house testing event
URL:https://careteamplus.org/event/the-south-carolina-department-of-public-health-6th-annual-prep-awareness-week-free-hiv-college-testing-event/
LOCATION:100 Tom Trout Drive Conway SC 29526\, 100 Tom Trout Drive\, Conway\, SC\, 29526\, United States
END:VEVENT
BEGIN:VEVENT
DTSTART;TZID=America/New_York:20250922T090000
DTEND;TZID=America/New_York:20250922T150000
DTSTAMP:20260423T091820
CREATED:20250717T134926Z
LAST-MODIFIED:20250717T135126Z
UID:10000041-1758531600-1758553200@careteamplus.org
SUMMARY:FREE Walk-In STI Bundles
DESCRIPTION:FREE WALK-IN STI BUNDLES \nOur Pawleys Island location is offering this FREE service every Monday and Wednesday from 9am-3pm.
URL:https://careteamplus.org/event/free-walk-in-sti-bundles/2025-09-22/
LOCATION:239 Business Center Drive Pawleys Island SC 29585\, 239 Business Center Drive\, Pawleys Island\, SC\, 29585\, United States
END:VEVENT
BEGIN:VEVENT
DTSTART;TZID=America/New_York:20250920T090000
DTEND;TZID=America/New_York:20250920T150000
DTSTAMP:20260423T091820
CREATED:20250917T154153Z
LAST-MODIFIED:20250917T154153Z
UID:10000568-1758358800-1758380400@careteamplus.org
SUMMARY:ASANA Softball Tournament Tabling Event
DESCRIPTION:Get your tickets and come say hi to our Careteam Plus staff at the ASANA Softball Tournament! Careteam Plus is a proud sponsor of this event. \nLocation: Grand Park Athletic Complex (1011 Crabtree Ln\, Myrtle Beach\, SC 29577) \nTime: 9:00am – 3:00pm
URL:https://careteamplus.org/event/asana-softball-tournament-tabling-event-4/
LOCATION:Grand Park Athletic Complex\, 1011 Crabtree Lane\, Myrtle Beach\, SC\, 29577\, United States
END:VEVENT
BEGIN:VEVENT
DTSTART;TZID=America/New_York:20250919T090000
DTEND;TZID=America/New_York:20250919T150000
DTSTAMP:20260423T091820
CREATED:20250917T154115Z
LAST-MODIFIED:20250917T154115Z
UID:10000567-1758272400-1758294000@careteamplus.org
SUMMARY:ASANA Softball Tournament Tabling Event
DESCRIPTION:Get your tickets and come say hi to our Careteam Plus staff at the ASANA Softball Tournament! Careteam Plus is a proud sponsor of this event. \nLocation: Grand Park Athletic Complex (1011 Crabtree Ln\, Myrtle Beach\, SC 29577) \nTime: 9:00am – 3:00pm
URL:https://careteamplus.org/event/asana-softball-tournament-tabling-event-3/
LOCATION:Grand Park Athletic Complex\, 1011 Crabtree Lane\, Myrtle Beach\, SC\, 29577\, United States
END:VEVENT
BEGIN:VEVENT
DTSTART;TZID=America/New_York:20250918T090000
DTEND;TZID=America/New_York:20250918T150000
DTSTAMP:20260423T091820
CREATED:20250917T154035Z
LAST-MODIFIED:20250917T154035Z
UID:10000566-1758186000-1758207600@careteamplus.org
SUMMARY:ASANA Softball Tournament Tabling Event
DESCRIPTION:Get your tickets and come say hi to our Careteam Plus staff at the ASANA Softball Tournament! Careteam Plus is a proud sponsor of this event. \nLocation: Grand Park Athletic Complex (1011 Crabtree Ln\, Myrtle Beach\, SC 29577) \nTime: 9:00am – 3:00pm
URL:https://careteamplus.org/event/asana-softball-tournament-tabling-event-2/
LOCATION:Grand Park Athletic Complex\, 1011 Crabtree Lane\, Myrtle Beach\, SC\, 29577\, United States
END:VEVENT
BEGIN:VEVENT
DTSTART;TZID=America/New_York:20250917T090000
DTEND;TZID=America/New_York:20250917T150000
DTSTAMP:20260423T091820
CREATED:20250917T153924Z
LAST-MODIFIED:20250917T153924Z
UID:10000565-1758099600-1758121200@careteamplus.org
SUMMARY:ASANA Softball Tournament Tabling Event
DESCRIPTION:Get your tickets and come say hi to our Careteam Plus staff at the ASANA Softball Tournament! Careteam Plus is a proud sponsor of this event. \nLocation: Grand Park Athletic Complex (1011 Crabtree Ln\, Myrtle Beach\, SC 29577) \nTime: 9:00am – 3:00pm
URL:https://careteamplus.org/event/asana-softball-tournament-tabling-event/
LOCATION:Grand Park Athletic Complex\, 1011 Crabtree Lane\, Myrtle Beach\, SC\, 29577\, United States
END:VEVENT
BEGIN:VEVENT
DTSTART;TZID=America/New_York:20250917T090000
DTEND;TZID=America/New_York:20250917T150000
DTSTAMP:20260423T091820
CREATED:20250717T134926Z
LAST-MODIFIED:20250717T135126Z
UID:10000040-1758099600-1758121200@careteamplus.org
SUMMARY:FREE Walk-In STI Bundles
DESCRIPTION:FREE WALK-IN STI BUNDLES \nOur Pawleys Island location is offering this FREE service every Monday and Wednesday from 9am-3pm.
URL:https://careteamplus.org/event/free-walk-in-sti-bundles/2025-09-17/
LOCATION:239 Business Center Drive Pawleys Island SC 29585\, 239 Business Center Drive\, Pawleys Island\, SC\, 29585\, United States
END:VEVENT
BEGIN:VEVENT
DTSTART;TZID=America/New_York:20250915T090000
DTEND;TZID=America/New_York:20250915T150000
DTSTAMP:20260423T091820
CREATED:20250717T134926Z
LAST-MODIFIED:20250717T135126Z
UID:10000039-1757926800-1757948400@careteamplus.org
SUMMARY:FREE Walk-In STI Bundles
DESCRIPTION:FREE WALK-IN STI BUNDLES \nOur Pawleys Island location is offering this FREE service every Monday and Wednesday from 9am-3pm.
URL:https://careteamplus.org/event/free-walk-in-sti-bundles/2025-09-15/
LOCATION:239 Business Center Drive Pawleys Island SC 29585\, 239 Business Center Drive\, Pawleys Island\, SC\, 29585\, United States
END:VEVENT
BEGIN:VEVENT
DTSTART;TZID=America/New_York:20250913T180000
DTEND;TZID=America/New_York:20250913T210000
DTSTAMP:20260423T091820
CREATED:20250827T162748Z
LAST-MODIFIED:20250827T162748Z
UID:10000562-1757786400-1757797200@careteamplus.org
SUMMARY:C.L.A.W.S Art Gallery Expo & Auction   (Coastal Leather Allegiance To Wisdom & Service)
DESCRIPTION:CLAWS cordially invite you to their 2nd Art Gallery Expo & Auction Fundraiser featuring local artwork and original prints. The event will have complimentary hors o’dourves & champagne. Proceeds will benefit PFLAG. \nEVENT NAME: C.L.A.W.S Art Gallery Expo & Auction   (Coastal Leather Allegiance To Wisdom & Service) \nEVENT DATE:  Saturday\, September 13\, 2025 \nEVENT TIME:  6pm-9pm \nEVENT ADDRESS: 2701 S. Kings Hwy \nDESCRIPTION: In-house testing and educational materials
URL:https://careteamplus.org/event/c-l-a-w-s-art-gallery-expo-auction-coastal-leather-allegiance-to-wisdom-service/
LOCATION:Pulse Ultra Club\, 2701 South Kings Highway\, Myrtle Beach\, SC\, 29577\, United States
END:VEVENT
BEGIN:VEVENT
DTSTART;TZID=America/New_York:20250910T090000
DTEND;TZID=America/New_York:20250910T150000
DTSTAMP:20260423T091820
CREATED:20250717T134926Z
LAST-MODIFIED:20250717T135126Z
UID:10000038-1757494800-1757516400@careteamplus.org
SUMMARY:FREE Walk-In STI Bundles
DESCRIPTION:FREE WALK-IN STI BUNDLES \nOur Pawleys Island location is offering this FREE service every Monday and Wednesday from 9am-3pm.
URL:https://careteamplus.org/event/free-walk-in-sti-bundles/2025-09-10/
LOCATION:239 Business Center Drive Pawleys Island SC 29585\, 239 Business Center Drive\, Pawleys Island\, SC\, 29585\, United States
END:VEVENT
BEGIN:VEVENT
DTSTART;TZID=America/New_York:20250908T110000
DTEND;TZID=America/New_York:20250908T120000
DTSTAMP:20260423T091820
CREATED:20250823T203433Z
LAST-MODIFIED:20250823T203433Z
UID:10000560-1757329200-1757332800@careteamplus.org
SUMMARY:Lunch with the Neighbor
DESCRIPTION:Come meet Shawn Garrett\, our Community Health Worker\, and say hello. He will be setting up a table during their lunch time feeding to the community. Learn about Careteam Plus services and what we offer. You can also meet our prevention team who will provide testing once a month. \nDate: September 8\, 2025 \nTime: 11:00am-12:00pm \nLocation: Friendship Place Inc – 1423 Front Street Georgetown SC 29440 \n 
URL:https://careteamplus.org/event/lunch-with-the-neighbor/
LOCATION:Friendship Place Inc\, 1423 Front Street\, Georgetown\, 29440\, United States
END:VEVENT
BEGIN:VEVENT
DTSTART;TZID=America/New_York:20250908T090000
DTEND;TZID=America/New_York:20250908T150000
DTSTAMP:20260423T091820
CREATED:20250717T134926Z
LAST-MODIFIED:20250717T135126Z
UID:10000037-1757322000-1757343600@careteamplus.org
SUMMARY:FREE Walk-In STI Bundles
DESCRIPTION:FREE WALK-IN STI BUNDLES \nOur Pawleys Island location is offering this FREE service every Monday and Wednesday from 9am-3pm.
URL:https://careteamplus.org/event/free-walk-in-sti-bundles/2025-09-08/
LOCATION:239 Business Center Drive Pawleys Island SC 29585\, 239 Business Center Drive\, Pawleys Island\, SC\, 29585\, United States
END:VEVENT
BEGIN:VEVENT
DTSTART;TZID=America/New_York:20250903T090000
DTEND;TZID=America/New_York:20250903T150000
DTSTAMP:20260423T091820
CREATED:20250717T134926Z
LAST-MODIFIED:20250717T135126Z
UID:10000036-1756890000-1756911600@careteamplus.org
SUMMARY:FREE Walk-In STI Bundles
DESCRIPTION:FREE WALK-IN STI BUNDLES \nOur Pawleys Island location is offering this FREE service every Monday and Wednesday from 9am-3pm.
URL:https://careteamplus.org/event/free-walk-in-sti-bundles/2025-09-03/
LOCATION:239 Business Center Drive Pawleys Island SC 29585\, 239 Business Center Drive\, Pawleys Island\, SC\, 29585\, United States
END:VEVENT
BEGIN:VEVENT
DTSTART;TZID=America/New_York:20250901T090000
DTEND;TZID=America/New_York:20250901T150000
DTSTAMP:20260423T091820
CREATED:20250717T134926Z
LAST-MODIFIED:20250717T135126Z
UID:10000035-1756717200-1756738800@careteamplus.org
SUMMARY:FREE Walk-In STI Bundles
DESCRIPTION:FREE WALK-IN STI BUNDLES \nOur Pawleys Island location is offering this FREE service every Monday and Wednesday from 9am-3pm.
URL:https://careteamplus.org/event/free-walk-in-sti-bundles/2025-09-01/
LOCATION:239 Business Center Drive Pawleys Island SC 29585\, 239 Business Center Drive\, Pawleys Island\, SC\, 29585\, United States
END:VEVENT
BEGIN:VEVENT
DTSTART;TZID=America/New_York:20250827T090000
DTEND;TZID=America/New_York:20250827T150000
DTSTAMP:20260423T091820
CREATED:20250717T134926Z
LAST-MODIFIED:20250717T135126Z
UID:10000034-1756285200-1756306800@careteamplus.org
SUMMARY:FREE Walk-In STI Bundles
DESCRIPTION:FREE WALK-IN STI BUNDLES \nOur Pawleys Island location is offering this FREE service every Monday and Wednesday from 9am-3pm.
URL:https://careteamplus.org/event/free-walk-in-sti-bundles/2025-08-27/
LOCATION:239 Business Center Drive Pawleys Island SC 29585\, 239 Business Center Drive\, Pawleys Island\, SC\, 29585\, United States
END:VEVENT
END:VCALENDAR