BEGIN:VCALENDAR
VERSION:2.0
PRODID:-// - ECPv6.15.18//NONSGML v1.0//EN
CALSCALE:GREGORIAN
METHOD:PUBLISH
X-ORIGINAL-URL:https://careteamplus.org
X-WR-CALDESC:Events for 
REFRESH-INTERVAL;VALUE=DURATION:PT1H
X-Robots-Tag:noindex
X-PUBLISHED-TTL:PT1H
BEGIN:VTIMEZONE
TZID:America/New_York
BEGIN:DAYLIGHT
TZOFFSETFROM:-0500
TZOFFSETTO:-0400
TZNAME:EDT
DTSTART:20250309T070000
END:DAYLIGHT
BEGIN:STANDARD
TZOFFSETFROM:-0400
TZOFFSETTO:-0500
TZNAME:EST
DTSTART:20251102T060000
END:STANDARD
BEGIN:DAYLIGHT
TZOFFSETFROM:-0500
TZOFFSETTO:-0400
TZNAME:EDT
DTSTART:20260308T070000
END:DAYLIGHT
BEGIN:STANDARD
TZOFFSETFROM:-0400
TZOFFSETTO:-0500
TZNAME:EST
DTSTART:20261101T060000
END:STANDARD
BEGIN:DAYLIGHT
TZOFFSETFROM:-0500
TZOFFSETTO:-0400
TZNAME:EDT
DTSTART:20270314T070000
END:DAYLIGHT
BEGIN:STANDARD
TZOFFSETFROM:-0400
TZOFFSETTO:-0500
TZNAME:EST
DTSTART:20271107T060000
END:STANDARD
END:VTIMEZONE
BEGIN:VEVENT
DTSTART;TZID=America/New_York:20260418T100000
DTEND;TZID=America/New_York:20260418T140000
DTSTAMP:20260420T155038
CREATED:20260217T223405Z
LAST-MODIFIED:20260324T181723Z
UID:10001349-1776506400-1776520800@careteamplus.org
SUMMARY:2026 Conway Alumnae Chapter of Delta Sigma Theta Health Fair
DESCRIPTION:The Careteam Plus staff will be at this event! Come say hello and learn more about Careteam Plus services! \nEVENT NAME: 2026 Conway Alumnae Chapter of Delta Sigma Theta Health Fair \nEVENT DATE:  April 18th \, 2026 \nEVENT TIME:  10-2pm \nEVENT ADDRESS: 1111 Grainger Rd\, Conway\, SC 29527 \nDESCRIPTION OF EVENT: MOBILE TESTING
URL:https://careteamplus.org/event/2026-conway-alumnae-chapter-of-delta-sigma-theta-health-fair/
LOCATION:1111 Grainger Rd Conway SC 29527\, 1111 Grainger Rd\, Conway\, 29527\, United States
END:VEVENT
END:VCALENDAR