BEGIN:VCALENDAR
VERSION:2.0
PRODID:-// - ECPv6.15.18//NONSGML v1.0//EN
CALSCALE:GREGORIAN
METHOD:PUBLISH
X-ORIGINAL-URL:https://careteamplus.org
X-WR-CALDESC:Events for 
REFRESH-INTERVAL;VALUE=DURATION:PT1H
X-Robots-Tag:noindex
X-PUBLISHED-TTL:PT1H
BEGIN:VTIMEZONE
TZID:America/New_York
BEGIN:DAYLIGHT
TZOFFSETFROM:-0500
TZOFFSETTO:-0400
TZNAME:EDT
DTSTART:20250309T070000
END:DAYLIGHT
BEGIN:STANDARD
TZOFFSETFROM:-0400
TZOFFSETTO:-0500
TZNAME:EST
DTSTART:20251102T060000
END:STANDARD
BEGIN:DAYLIGHT
TZOFFSETFROM:-0500
TZOFFSETTO:-0400
TZNAME:EDT
DTSTART:20260308T070000
END:DAYLIGHT
BEGIN:STANDARD
TZOFFSETFROM:-0400
TZOFFSETTO:-0500
TZNAME:EST
DTSTART:20261101T060000
END:STANDARD
BEGIN:DAYLIGHT
TZOFFSETFROM:-0500
TZOFFSETTO:-0400
TZNAME:EDT
DTSTART:20270314T070000
END:DAYLIGHT
BEGIN:STANDARD
TZOFFSETFROM:-0400
TZOFFSETTO:-0500
TZNAME:EST
DTSTART:20271107T060000
END:STANDARD
END:VTIMEZONE
BEGIN:VEVENT
DTSTART;TZID=America/New_York:20260531T150000
DTEND;TZID=America/New_York:20260531T163000
DTSTAMP:20260420T173627
CREATED:20260417T163548Z
LAST-MODIFIED:20260417T163548Z
UID:10001625-1780239600-1780245000@careteamplus.org
SUMMARY:5th Sunday Fellowship & Community Resource Event
DESCRIPTION:The Careteam Plus staff will be at the 5th Sunday Fellowship & Community Resource Event! Come say hello and learn about Careteam Plus services! \nEVENT NAME: 5th Sunday Fellowship & Community Resource Event \nEVENT DATE: Sunday\, May 31\, 2026 \nEVENT TIME:  3:00pm-4:15pm \nEVENT ADDRESS:  12137 Ocean Hwy\, Pawleys Island\, SC \nDESCRIPTION OF EVENT: Mobile Unit Testing 
URL:https://careteamplus.org/event/5th-sunday-fellowship-community-resource-event/
LOCATION:12137 Ocean Hwy Pawleys Island SC 29585\, 12137 Ocean Hwy\, Pawleys Island\, SC\, 29585\, United States
END:VEVENT
END:VCALENDAR