BEGIN:VCALENDAR
VERSION:2.0
PRODID:-// - ECPv6.15.18//NONSGML v1.0//EN
CALSCALE:GREGORIAN
METHOD:PUBLISH
X-ORIGINAL-URL:https://careteamplus.org
X-WR-CALDESC:Events for 
REFRESH-INTERVAL;VALUE=DURATION:PT1H
X-Robots-Tag:noindex
X-PUBLISHED-TTL:PT1H
BEGIN:VTIMEZONE
TZID:America/New_York
BEGIN:DAYLIGHT
TZOFFSETFROM:-0500
TZOFFSETTO:-0400
TZNAME:EDT
DTSTART:20240310T070000
END:DAYLIGHT
BEGIN:STANDARD
TZOFFSETFROM:-0400
TZOFFSETTO:-0500
TZNAME:EST
DTSTART:20241103T060000
END:STANDARD
BEGIN:DAYLIGHT
TZOFFSETFROM:-0500
TZOFFSETTO:-0400
TZNAME:EDT
DTSTART:20250309T070000
END:DAYLIGHT
BEGIN:STANDARD
TZOFFSETFROM:-0400
TZOFFSETTO:-0500
TZNAME:EST
DTSTART:20251102T060000
END:STANDARD
BEGIN:DAYLIGHT
TZOFFSETFROM:-0500
TZOFFSETTO:-0400
TZNAME:EDT
DTSTART:20260308T070000
END:DAYLIGHT
BEGIN:STANDARD
TZOFFSETFROM:-0400
TZOFFSETTO:-0500
TZNAME:EST
DTSTART:20261101T060000
END:STANDARD
BEGIN:DAYLIGHT
TZOFFSETFROM:-0500
TZOFFSETTO:-0400
TZNAME:EDT
DTSTART:20270314T070000
END:DAYLIGHT
BEGIN:STANDARD
TZOFFSETFROM:-0400
TZOFFSETTO:-0500
TZNAME:EST
DTSTART:20271107T060000
END:STANDARD
END:VTIMEZONE
BEGIN:VEVENT
DTSTART;TZID=America/New_York:20260407T100000
DTEND;TZID=America/New_York:20260407T140000
DTSTAMP:20260420T155740
CREATED:20260407T184951Z
LAST-MODIFIED:20260407T184951Z
UID:10001623-1775556000-1775570400@careteamplus.org
SUMMARY:Day Party Sea Haven Young Adult Services
DESCRIPTION:Join the Careteam Plus staff at the Day Party Sea Haven Young Adult Services! Come say hello and learn about Careteam Plus services! \nEVENT NAME:  Day Party Sea Haven Young Adult Services \nEVENT DATE:  Monday April 27th 2026 \nEVENT TIME: 10-2pm \nEVENT ADDRESS:  305 Highway 15 Myrtle Beach \nDESCRIPTION OF EVENT: Tabling event
URL:https://careteamplus.org/event/day-party-sea-haven-young-adult-services/
LOCATION:305 Hwy 15 Myrtle Beach SC 29577\, 305 Hwy 15\, Myrtle Beach\, SC\, 29577\, United States
END:VEVENT
BEGIN:VEVENT
DTSTART;TZID=America/New_York:20250718T100000
DTEND;TZID=America/New_York:20250718T150000
DTSTAMP:20260420T155740
CREATED:20250619T142444Z
LAST-MODIFIED:20250619T142444Z
UID:10000014-1752832800-1752850800@careteamplus.org
SUMMARY:2nd Annual Health Fair @ Youth Adult Services
DESCRIPTION:EVENT NAME: 2nd Annual Health Fair \nEVENT DATE: Friday July 18th \, 2025 \nEVENT TIME: 10-3pm \nEVENT ADDRESS: 305 Hwy 15 Myrtle Beach \nDESCRIPTION OF THE EVENT:  Testing Event \nSea Haven’s Young Adult Services is excited to host their 2nd Annual Health Fair on Friday\, July 18\, 2025\, from 10:00 AM to 3:00 PM. \nAs June is National Adolescent Health Month\, this is the perfect time to provide essential health and wellness resources to young adults in our community.
URL:https://careteamplus.org/event/2nd-annual-health-fair-youth-adult-services/
LOCATION:305 Hwy 15 Myrtle Beach SC 29577\, 305 Hwy 15\, Myrtle Beach\, SC\, 29577\, United States
END:VEVENT
BEGIN:VEVENT
DTSTART;TZID=America/New_York:20250618T100000
DTEND;TZID=America/New_York:20250618T150000
DTSTAMP:20260420T155740
CREATED:20250618T175531Z
LAST-MODIFIED:20250618T175531Z
UID:10000012-1750240800-1750258800@careteamplus.org
SUMMARY:2nd Annual Health Fair
DESCRIPTION:EVENT NAME: 2nd Annual Health Fair \nEVENT DATE: Friday July 18th \, 2025 \nEVENT TIME: 10-3pm \nEVENT ADDRESS: 305 Hwy 15 Myrtle Beach \nDESCRIPTION OF THE EVENT: Testing Event \nSea Haven’s Young Adult Services is excited to host our 2nd Annual Health Fair on Friday\, June 20\, 2025\, from 10:00 AM to 3:00 PM. As June is National Adolescent Health Month\, this is the perfect time to provide essential health and wellness resources to young adults in our community. Come join us!
URL:https://careteamplus.org/event/2nd-annual-health-fair/
LOCATION:305 Hwy 15 Myrtle Beach SC 29577\, 305 Hwy 15\, Myrtle Beach\, SC\, 29577\, United States
END:VEVENT
END:VCALENDAR