BEGIN:VCALENDAR
VERSION:2.0
PRODID:-// - ECPv6.15.18//NONSGML v1.0//EN
CALSCALE:GREGORIAN
METHOD:PUBLISH
X-ORIGINAL-URL:https://careteamplus.org
X-WR-CALDESC:Events for 
REFRESH-INTERVAL;VALUE=DURATION:PT1H
X-Robots-Tag:noindex
X-PUBLISHED-TTL:PT1H
BEGIN:VTIMEZONE
TZID:America/New_York
BEGIN:DAYLIGHT
TZOFFSETFROM:-0500
TZOFFSETTO:-0400
TZNAME:EDT
DTSTART:20250309T070000
END:DAYLIGHT
BEGIN:STANDARD
TZOFFSETFROM:-0400
TZOFFSETTO:-0500
TZNAME:EST
DTSTART:20251102T060000
END:STANDARD
BEGIN:DAYLIGHT
TZOFFSETFROM:-0500
TZOFFSETTO:-0400
TZNAME:EDT
DTSTART:20260308T070000
END:DAYLIGHT
BEGIN:STANDARD
TZOFFSETFROM:-0400
TZOFFSETTO:-0500
TZNAME:EST
DTSTART:20261101T060000
END:STANDARD
BEGIN:DAYLIGHT
TZOFFSETFROM:-0500
TZOFFSETTO:-0400
TZNAME:EDT
DTSTART:20270314T070000
END:DAYLIGHT
BEGIN:STANDARD
TZOFFSETFROM:-0400
TZOFFSETTO:-0500
TZNAME:EST
DTSTART:20271107T060000
END:STANDARD
END:VTIMEZONE
BEGIN:VEVENT
DTSTART;TZID=America/New_York:20260520T110000
DTEND;TZID=America/New_York:20260520T140000
DTSTAMP:20260420T155121
CREATED:20260417T162626Z
LAST-MODIFIED:20260417T162626Z
UID:10001624-1779274800-1779285600@careteamplus.org
SUMMARY:Advance America Testing Event
DESCRIPTION:Join the Careteam Plus staff at the Advance America Testing Event on May 20th from 11a-2p! Come say hello and learn about Careteam Plus services! \nEVENT NAME: Advance America Testing Event \nEVENT DATE:  5/20/2026 \nEVENT TIME: 11-2 pm \nEVENT ADDRESS: 5022 Dick Pond Rd #3\, Myrtle Beach\, SC 29588 \nDESCRIPTION OF EVENT: Mobile Unit Testing
URL:https://careteamplus.org/event/advance-america-testing-event/
LOCATION:5022 Dick Pond Rd #3 Myrtle Beach SC 29588\, 5022 Dick Pond Rd #3\, Myrtle Beach\, SC\, 29588\, United States
END:VEVENT
END:VCALENDAR