BEGIN:VCALENDAR
VERSION:2.0
PRODID:-// - ECPv6.15.18//NONSGML v1.0//EN
CALSCALE:GREGORIAN
METHOD:PUBLISH
X-ORIGINAL-URL:https://careteamplus.org
X-WR-CALDESC:Events for 
REFRESH-INTERVAL;VALUE=DURATION:PT1H
X-Robots-Tag:noindex
X-PUBLISHED-TTL:PT1H
BEGIN:VTIMEZONE
TZID:America/New_York
BEGIN:DAYLIGHT
TZOFFSETFROM:-0500
TZOFFSETTO:-0400
TZNAME:EDT
DTSTART:20250309T070000
END:DAYLIGHT
BEGIN:STANDARD
TZOFFSETFROM:-0400
TZOFFSETTO:-0500
TZNAME:EST
DTSTART:20251102T060000
END:STANDARD
BEGIN:DAYLIGHT
TZOFFSETFROM:-0500
TZOFFSETTO:-0400
TZNAME:EDT
DTSTART:20260308T070000
END:DAYLIGHT
BEGIN:STANDARD
TZOFFSETFROM:-0400
TZOFFSETTO:-0500
TZNAME:EST
DTSTART:20261101T060000
END:STANDARD
BEGIN:DAYLIGHT
TZOFFSETFROM:-0500
TZOFFSETTO:-0400
TZNAME:EDT
DTSTART:20270314T070000
END:DAYLIGHT
BEGIN:STANDARD
TZOFFSETFROM:-0400
TZOFFSETTO:-0500
TZNAME:EST
DTSTART:20271107T060000
END:STANDARD
END:VTIMEZONE
BEGIN:VEVENT
DTSTART;TZID=America/New_York:20260328T090000
DTEND;TZID=America/New_York:20260328T140000
DTSTAMP:20260420T172439
CREATED:20260122T211509Z
LAST-MODIFIED:20260217T221358Z
UID:10001051-1774688400-1774706400@careteamplus.org
SUMMARY:Community Health Fair
DESCRIPTION:Join the Careteam Plus staff at the Community Health Fair! Come say hello and learn about Careteam Plus! \nEVENT NAME:  Community Health Fair \nEVENT DATE:  March 28th \, 2026 \nEVENT TIME: 9a-2pm \nEVENT ADDRESS:  Andrews Annex 411 E Main St Andrews 29510 \nDESCRIPTION OF EVENT: Mobile Testing and Diabetes Education
URL:https://careteamplus.org/event/community-health-fair/
LOCATION:Andrews Annex\, 411 E Main Street\, Andrews\, SC\, 29510\, United States
END:VEVENT
END:VCALENDAR