BEGIN:VCALENDAR
VERSION:2.0
PRODID:-// - ECPv6.15.18//NONSGML v1.0//EN
CALSCALE:GREGORIAN
METHOD:PUBLISH
X-ORIGINAL-URL:https://careteamplus.org
X-WR-CALDESC:Events for 
REFRESH-INTERVAL;VALUE=DURATION:PT1H
X-Robots-Tag:noindex
X-PUBLISHED-TTL:PT1H
BEGIN:VTIMEZONE
TZID:America/New_York
BEGIN:DAYLIGHT
TZOFFSETFROM:-0500
TZOFFSETTO:-0400
TZNAME:EDT
DTSTART:20240310T070000
END:DAYLIGHT
BEGIN:STANDARD
TZOFFSETFROM:-0400
TZOFFSETTO:-0500
TZNAME:EST
DTSTART:20241103T060000
END:STANDARD
BEGIN:DAYLIGHT
TZOFFSETFROM:-0500
TZOFFSETTO:-0400
TZNAME:EDT
DTSTART:20250309T070000
END:DAYLIGHT
BEGIN:STANDARD
TZOFFSETFROM:-0400
TZOFFSETTO:-0500
TZNAME:EST
DTSTART:20251102T060000
END:STANDARD
BEGIN:DAYLIGHT
TZOFFSETFROM:-0500
TZOFFSETTO:-0400
TZNAME:EDT
DTSTART:20260308T070000
END:DAYLIGHT
BEGIN:STANDARD
TZOFFSETFROM:-0400
TZOFFSETTO:-0500
TZNAME:EST
DTSTART:20261101T060000
END:STANDARD
END:VTIMEZONE
BEGIN:VEVENT
DTSTART;TZID=America/New_York:20251115T100000
DTEND;TZID=America/New_York:20251115T140000
DTSTAMP:20260421T050646
CREATED:20251010T141147Z
LAST-MODIFIED:20251010T141147Z
UID:10000574-1763200800-1763215200@careteamplus.org
SUMMARY:Hope for Tomorrow: A Day of Unity and Prevention
DESCRIPTION:Join the Careteam Plus Prevention Team at the Hope for Tomorrow: A Day of Unity and Prevention event! The event is on November 15th from 10a-2p at the Choppee Recreation Center. Our team will provide Mobile Unit Testing so come say hello and we would love to meet you! \nEVENT NAME:  Hope for Tomorrow: A Day of Unity and Prevention \nEVENT DATE: 11/15/2025 \nEVENT TIME: 10:00am-2:00pm \nEVENT ADDRESS: 8259 Choppee Rd. Georgetown\, SC 29440 (Choppee Recreation Center)
URL:https://careteamplus.org/event/hope-for-tomorrow-a-day-of-unity-and-prevention/
LOCATION:Choppee Recreation Center\, 8259 Choppee Rd.\, Georgetown\, SC\, 29440\, United States
END:VEVENT
END:VCALENDAR