BEGIN:VCALENDAR
VERSION:2.0
PRODID:-// - ECPv6.15.18//NONSGML v1.0//EN
CALSCALE:GREGORIAN
METHOD:PUBLISH
X-ORIGINAL-URL:https://careteamplus.org
X-WR-CALDESC:Events for 
REFRESH-INTERVAL;VALUE=DURATION:PT1H
X-Robots-Tag:noindex
X-PUBLISHED-TTL:PT1H
BEGIN:VTIMEZONE
TZID:America/New_York
BEGIN:DAYLIGHT
TZOFFSETFROM:-0500
TZOFFSETTO:-0400
TZNAME:EDT
DTSTART:20240310T070000
END:DAYLIGHT
BEGIN:STANDARD
TZOFFSETFROM:-0400
TZOFFSETTO:-0500
TZNAME:EST
DTSTART:20241103T060000
END:STANDARD
BEGIN:DAYLIGHT
TZOFFSETFROM:-0500
TZOFFSETTO:-0400
TZNAME:EDT
DTSTART:20250309T070000
END:DAYLIGHT
BEGIN:STANDARD
TZOFFSETFROM:-0400
TZOFFSETTO:-0500
TZNAME:EST
DTSTART:20251102T060000
END:STANDARD
BEGIN:DAYLIGHT
TZOFFSETFROM:-0500
TZOFFSETTO:-0400
TZNAME:EDT
DTSTART:20260308T070000
END:DAYLIGHT
BEGIN:STANDARD
TZOFFSETFROM:-0400
TZOFFSETTO:-0500
TZNAME:EST
DTSTART:20261101T060000
END:STANDARD
END:VTIMEZONE
BEGIN:VEVENT
DTSTART;TZID=America/New_York:20250925T120000
DTEND;TZID=America/New_York:20250925T150000
DTSTAMP:20260425T062206
CREATED:20250911T133857Z
LAST-MODIFIED:20250911T134758Z
UID:10000563-1758801600-1758812400@careteamplus.org
SUMMARY:Williamsburg Recovery Month Event
DESCRIPTION:Join Careteam Plus and CARPS SC in recognizing National Recovery Month! We will be in the parking lot of Food Lion at 1319 Long St.\, Kingstree\, SC\, 29556 from 12:00 pm to 3:00 pm on September 25\, 2025. \nWe will be distributing Narcan\, Fentanyl and Xylazine test strips\, safe sex supplies\, and other harm reduction supplies. We will be testing for HIV and Hepatitis C. Our dedicated Certified Peer Support Specialists (people who are recovering from addiction) will be onsite to work with anyone interested in receiving services. \nAll supplies and services are free of charge!
URL:https://careteamplus.org/event/williamsburg-recovery-month-event/
LOCATION:Food Lion\, 1319 Long St.\, Kingstree\, SC\, 29556\, United States
END:VEVENT
END:VCALENDAR