BEGIN:VCALENDAR
VERSION:2.0
PRODID:-// - ECPv6.15.18//NONSGML v1.0//EN
CALSCALE:GREGORIAN
METHOD:PUBLISH
X-ORIGINAL-URL:https://careteamplus.org
X-WR-CALDESC:Events for 
REFRESH-INTERVAL;VALUE=DURATION:PT1H
X-Robots-Tag:noindex
X-PUBLISHED-TTL:PT1H
BEGIN:VTIMEZONE
TZID:America/New_York
BEGIN:DAYLIGHT
TZOFFSETFROM:-0500
TZOFFSETTO:-0400
TZNAME:EDT
DTSTART:20240310T070000
END:DAYLIGHT
BEGIN:STANDARD
TZOFFSETFROM:-0400
TZOFFSETTO:-0500
TZNAME:EST
DTSTART:20241103T060000
END:STANDARD
BEGIN:DAYLIGHT
TZOFFSETFROM:-0500
TZOFFSETTO:-0400
TZNAME:EDT
DTSTART:20250309T070000
END:DAYLIGHT
BEGIN:STANDARD
TZOFFSETFROM:-0400
TZOFFSETTO:-0500
TZNAME:EST
DTSTART:20251102T060000
END:STANDARD
BEGIN:DAYLIGHT
TZOFFSETFROM:-0500
TZOFFSETTO:-0400
TZNAME:EDT
DTSTART:20260308T070000
END:DAYLIGHT
BEGIN:STANDARD
TZOFFSETFROM:-0400
TZOFFSETTO:-0500
TZNAME:EST
DTSTART:20261101T060000
END:STANDARD
BEGIN:DAYLIGHT
TZOFFSETFROM:-0500
TZOFFSETTO:-0400
TZNAME:EDT
DTSTART:20270314T070000
END:DAYLIGHT
BEGIN:STANDARD
TZOFFSETFROM:-0400
TZOFFSETTO:-0500
TZNAME:EST
DTSTART:20271107T060000
END:STANDARD
END:VTIMEZONE
BEGIN:VEVENT
DTSTART;TZID=America/New_York:20260421T080000
DTEND;TZID=America/New_York:20260421T143000
DTSTAMP:20260421T224606
CREATED:20260217T224923Z
LAST-MODIFIED:20260304T180303Z
UID:10001351-1776758400-1776781800@careteamplus.org
SUMMARY:Women's Health Day - Pawleys Island
DESCRIPTION:🤗 🗓️ Join us on Tuesday\, April 21\, 2026\, from 8:00 AM to 2:30 PM for our Women’s Health Day event at the parking lot of Fresh Market in Pawleys Island! This event is hosted by Careteam Plus in partnership with the Conway Medical Center Mammography Van\, which will be on-site to provide services. \nWe are offering Free Mammograms and Pap Smear screenings to support women’s preventive health. Just as mammograms are vital for early detection of breast cancer\, Pap smears are equally important for identifying cervical cancer early. Both screenings improve outcomes and save lives!  Appointments are encouraged\, but Walk-Ins are always welcome as space permits. \nSave the date and call 843-234-8237 to schedule your appointment or ask any questions about the event. Taking care of your health starts here! \n📣🎉 Flyer Preview — don’t miss it! 👇
URL:https://careteamplus.org/event/womens-health-day-pawleys-island/
LOCATION:Fresh Market Pawleys Island\, 11421-A Ocean Hwy\, Pawleys Island\, SC\, 29585\, United States
END:VEVENT
BEGIN:VEVENT
DTSTART;TZID=America/New_York:20250819T080000
DTEND;TZID=America/New_York:20250819T143000
DTSTAMP:20260421T224606
CREATED:20250623T214717Z
LAST-MODIFIED:20250623T214717Z
UID:10000015-1755590400-1755613800@careteamplus.org
SUMMARY:Women's Health Day
DESCRIPTION:Curious about your health? Join Careteam Plus for Women’s Health Day on Tuesday\, August 19th\, from 8:00am-2:30pm at the Parking Lot of Fresh Market in Pawleys Island. Women get a FREE Mammogram and FREE Pap Smear screening! Call to schedule your appointment today at 843-2348243. \nWomen’s Health Day with Careteam Plus is in partnership with Conway Medical Center Mobile Mammography Van. For more information\, visit careteamplus.org. \nTake the first step towards peace of mind today!
URL:https://careteamplus.org/event/womens-health-day-2/
LOCATION:Fresh Market Pawleys Island\, 11421-A Ocean Hwy\, Pawleys Island\, SC\, 29585\, United States
END:VEVENT
END:VCALENDAR