BEGIN:VCALENDAR
VERSION:2.0
PRODID:-// - ECPv6.15.18//NONSGML v1.0//EN
CALSCALE:GREGORIAN
METHOD:PUBLISH
X-ORIGINAL-URL:https://careteamplus.org
X-WR-CALDESC:Events for 
REFRESH-INTERVAL;VALUE=DURATION:PT1H
X-Robots-Tag:noindex
X-PUBLISHED-TTL:PT1H
BEGIN:VTIMEZONE
TZID:America/New_York
BEGIN:DAYLIGHT
TZOFFSETFROM:-0500
TZOFFSETTO:-0400
TZNAME:EDT
DTSTART:20240310T070000
END:DAYLIGHT
BEGIN:STANDARD
TZOFFSETFROM:-0400
TZOFFSETTO:-0500
TZNAME:EST
DTSTART:20241103T060000
END:STANDARD
BEGIN:DAYLIGHT
TZOFFSETFROM:-0500
TZOFFSETTO:-0400
TZNAME:EDT
DTSTART:20250309T070000
END:DAYLIGHT
BEGIN:STANDARD
TZOFFSETFROM:-0400
TZOFFSETTO:-0500
TZNAME:EST
DTSTART:20251102T060000
END:STANDARD
BEGIN:DAYLIGHT
TZOFFSETFROM:-0500
TZOFFSETTO:-0400
TZNAME:EDT
DTSTART:20260308T070000
END:DAYLIGHT
BEGIN:STANDARD
TZOFFSETFROM:-0400
TZOFFSETTO:-0500
TZNAME:EST
DTSTART:20261101T060000
END:STANDARD
END:VTIMEZONE
BEGIN:VEVENT
DTSTART;TZID=America/New_York:20251004T110000
DTEND;TZID=America/New_York:20251004T140000
DTSTAMP:20260421T143842
CREATED:20250809T044605Z
LAST-MODIFIED:20250809T044605Z
UID:10000558-1759575600-1759586400@careteamplus.org
SUMMARY:Community Resource Fair
DESCRIPTION:EVENT NAME: Community Resource Fair \nEVENT DATE: October 4\, 2025 \nEVENT TIME: 11:00am – 2:00pm \nEVENT ADDRESS: 4187 Powell Rd. Georgetown\, SC 29440 (Southern Georgetown Library) \nDESCRIPTION: Mobile Unit for HIV Testing and Educational Materials.
URL:https://careteamplus.org/event/community-resource-fair/
LOCATION:Southern Georgetown Library\, 4187 Powell Rd.\, Georgetown\, South Carolina\, 29440\, United States
END:VEVENT
END:VCALENDAR